BEGIN:VCALENDAR
VERSION:2.0
PRODID:-//Renee Walker Wellness - ECPv6.15.20//NONSGML v1.0//EN
CALSCALE:GREGORIAN
METHOD:PUBLISH
X-WR-CALNAME:Renee Walker Wellness
X-ORIGINAL-URL:https://reneewalkerwellness.com
X-WR-CALDESC:Events for Renee Walker Wellness
REFRESH-INTERVAL;VALUE=DURATION:PT1H
X-Robots-Tag:noindex
X-PUBLISHED-TTL:PT1H
BEGIN:VTIMEZONE
TZID:America/Toronto
BEGIN:DAYLIGHT
TZOFFSETFROM:-0500
TZOFFSETTO:-0400
TZNAME:EDT
DTSTART:20290311T070000
END:DAYLIGHT
BEGIN:STANDARD
TZOFFSETFROM:-0400
TZOFFSETTO:-0500
TZNAME:EST
DTSTART:20291104T060000
END:STANDARD
BEGIN:DAYLIGHT
TZOFFSETFROM:-0500
TZOFFSETTO:-0400
TZNAME:EDT
DTSTART:20300310T070000
END:DAYLIGHT
BEGIN:STANDARD
TZOFFSETFROM:-0400
TZOFFSETTO:-0500
TZNAME:EST
DTSTART:20301103T060000
END:STANDARD
BEGIN:DAYLIGHT
TZOFFSETFROM:-0500
TZOFFSETTO:-0400
TZNAME:EDT
DTSTART:20310309T070000
END:DAYLIGHT
BEGIN:STANDARD
TZOFFSETFROM:-0400
TZOFFSETTO:-0500
TZNAME:EST
DTSTART:20311102T060000
END:STANDARD
END:VTIMEZONE
BEGIN:VEVENT
DTSTART;TZID=America/Toronto:20300114T070000
DTEND;TZID=America/Toronto:20300114T073000
DTSTAMP:20260421T212340
CREATED:20250611T150249Z
LAST-MODIFIED:20260408T212503Z
UID:10004692-1894604400-1894606200@reneewalkerwellness.com
SUMMARY:Morning Energetics Live
DESCRIPTION:Monday (Live with Renee Walker):\nGround your energy and align with your higher self in real-time with Renee Walker. Start your week with clarity\, purpose\, and a calm\, focused mind. \nNot a member of the Spiritually Wired Membership yet? Join now!
URL:https://reneewalkerwellness.com/event/morning-energetics-3/2030-01-14/
LOCATION:Membership
CATEGORIES:Membership Event
ATTACH;FMTTYPE=image/jpeg:https://reneewalkerwellness.com/wp-content/uploads/2024/09/April24-33-1.jpg
END:VEVENT
BEGIN:VEVENT
DTSTART;TZID=America/Toronto:20300115T190000
DTEND;TZID=America/Toronto:20300115T200000
DTSTAMP:20260421T212340
CREATED:20240918T182206Z
LAST-MODIFIED:20260413T182529Z
UID:10004724-1894734000-1894737600@reneewalkerwellness.com
SUMMARY:‘Sacred Soul Hour’ Mindset Masterclass
DESCRIPTION:TUESDAYS LIVE AT 7 PM\n\n\n\nTransform your mindset with soul lessons and practices in energy alignment\, meditation\, EFT tapping\, NLP\, hypnotherapy\, and more.\n\nNot a member of the Spiritually Wired Membership yet? Join now!
URL:https://reneewalkerwellness.com/event/sacred-soul-hour-mindset-masterclass/2030-01-15/
LOCATION:Membership
CATEGORIES:Membership Event
ATTACH;FMTTYPE=image/jpeg:https://reneewalkerwellness.com/wp-content/uploads/2024/09/April24-33-1-2.jpg
END:VEVENT
BEGIN:VEVENT
DTSTART;TZID=America/Toronto:20300116T120000
DTEND;TZID=America/Toronto:20300116T130000
DTSTAMP:20260421T212340
CREATED:20240918T183626Z
LAST-MODIFIED:20260102T171223Z
UID:10004429-1894795200-1894798800@reneewalkerwellness.com
SUMMARY:Soul Coaching Hour
DESCRIPTION: LIVE AT 12 PM\n\n\n\nReceive live coaching directly from Renée during this hour dedicated to healing & growth.\n\n\nNot a member of the Spiritually Wired Membership yet? Join now!
URL:https://reneewalkerwellness.com/event/soul-coaching-hour/2030-01-16/
LOCATION:Membership
CATEGORIES:Membership Event
ATTACH;FMTTYPE=image/jpeg:https://reneewalkerwellness.com/wp-content/uploads/2024/09/April24-69.jpg
END:VEVENT
BEGIN:VEVENT
DTSTART;TZID=America/Toronto:20300117T070000
DTEND;TZID=America/Toronto:20300117T073000
DTSTAMP:20260421T212340
CREATED:20250626T021255Z
LAST-MODIFIED:20260226T015525Z
UID:10005248-1894863600-1894865400@reneewalkerwellness.com
SUMMARY:Morning Energetics
DESCRIPTION:Thursday (Pre-recorded with Andrea Donnelly\, shown live at 7am):\nReceive energetic support and recalibration from Reiki Master Andrea Donnelly in this pre-recorded energy session\, streamed live each Thursday morning. Tune in to clear stagnant energy\, reconnect to your intuition\, and begin your day in energetic alignment. \nNot a member of the Spiritually Wired Membership yet? Join now!
URL:https://reneewalkerwellness.com/event/morning-energetics-4/2030-01-17/
LOCATION:Membership
CATEGORIES:Membership Event
ATTACH;FMTTYPE=image/jpeg:https://reneewalkerwellness.com/wp-content/uploads/2025/06/IMG_9003.jpg
END:VEVENT
BEGIN:VEVENT
DTSTART;TZID=America/Toronto:20300121T070000
DTEND;TZID=America/Toronto:20300121T073000
DTSTAMP:20260421T212340
CREATED:20250611T150249Z
LAST-MODIFIED:20260408T212503Z
UID:10004693-1895209200-1895211000@reneewalkerwellness.com
SUMMARY:Morning Energetics Live
DESCRIPTION:Monday (Live with Renee Walker):\nGround your energy and align with your higher self in real-time with Renee Walker. Start your week with clarity\, purpose\, and a calm\, focused mind. \nNot a member of the Spiritually Wired Membership yet? Join now!
URL:https://reneewalkerwellness.com/event/morning-energetics-3/2030-01-21/
LOCATION:Membership
CATEGORIES:Membership Event
ATTACH;FMTTYPE=image/jpeg:https://reneewalkerwellness.com/wp-content/uploads/2024/09/April24-33-1.jpg
END:VEVENT
BEGIN:VEVENT
DTSTART;TZID=America/Toronto:20300122T190000
DTEND;TZID=America/Toronto:20300122T200000
DTSTAMP:20260421T212340
CREATED:20240918T182206Z
LAST-MODIFIED:20260413T182529Z
UID:10004725-1895338800-1895342400@reneewalkerwellness.com
SUMMARY:‘Sacred Soul Hour’ Mindset Masterclass
DESCRIPTION:TUESDAYS LIVE AT 7 PM\n\n\n\nTransform your mindset with soul lessons and practices in energy alignment\, meditation\, EFT tapping\, NLP\, hypnotherapy\, and more.\n\nNot a member of the Spiritually Wired Membership yet? Join now!
URL:https://reneewalkerwellness.com/event/sacred-soul-hour-mindset-masterclass/2030-01-22/
LOCATION:Membership
CATEGORIES:Membership Event
ATTACH;FMTTYPE=image/jpeg:https://reneewalkerwellness.com/wp-content/uploads/2024/09/April24-33-1-2.jpg
END:VEVENT
BEGIN:VEVENT
DTSTART;TZID=America/Toronto:20300124T070000
DTEND;TZID=America/Toronto:20300124T073000
DTSTAMP:20260421T212340
CREATED:20250626T021255Z
LAST-MODIFIED:20260226T015525Z
UID:10005249-1895468400-1895470200@reneewalkerwellness.com
SUMMARY:Morning Energetics
DESCRIPTION:Thursday (Pre-recorded with Andrea Donnelly\, shown live at 7am):\nReceive energetic support and recalibration from Reiki Master Andrea Donnelly in this pre-recorded energy session\, streamed live each Thursday morning. Tune in to clear stagnant energy\, reconnect to your intuition\, and begin your day in energetic alignment. \nNot a member of the Spiritually Wired Membership yet? Join now!
URL:https://reneewalkerwellness.com/event/morning-energetics-4/2030-01-24/
LOCATION:Membership
CATEGORIES:Membership Event
ATTACH;FMTTYPE=image/jpeg:https://reneewalkerwellness.com/wp-content/uploads/2025/06/IMG_9003.jpg
END:VEVENT
BEGIN:VEVENT
DTSTART;TZID=America/Toronto:20300128T070000
DTEND;TZID=America/Toronto:20300128T073000
DTSTAMP:20260421T212340
CREATED:20250611T150249Z
LAST-MODIFIED:20260408T212503Z
UID:10004694-1895814000-1895815800@reneewalkerwellness.com
SUMMARY:Morning Energetics Live
DESCRIPTION:Monday (Live with Renee Walker):\nGround your energy and align with your higher self in real-time with Renee Walker. Start your week with clarity\, purpose\, and a calm\, focused mind. \nNot a member of the Spiritually Wired Membership yet? Join now!
URL:https://reneewalkerwellness.com/event/morning-energetics-3/2030-01-28/
LOCATION:Membership
CATEGORIES:Membership Event
ATTACH;FMTTYPE=image/jpeg:https://reneewalkerwellness.com/wp-content/uploads/2024/09/April24-33-1.jpg
END:VEVENT
BEGIN:VEVENT
DTSTART;TZID=America/Toronto:20300129T190000
DTEND;TZID=America/Toronto:20300129T200000
DTSTAMP:20260421T212340
CREATED:20240918T182206Z
LAST-MODIFIED:20260413T182529Z
UID:10004726-1895943600-1895947200@reneewalkerwellness.com
SUMMARY:‘Sacred Soul Hour’ Mindset Masterclass
DESCRIPTION:TUESDAYS LIVE AT 7 PM\n\n\n\nTransform your mindset with soul lessons and practices in energy alignment\, meditation\, EFT tapping\, NLP\, hypnotherapy\, and more.\n\nNot a member of the Spiritually Wired Membership yet? Join now!
URL:https://reneewalkerwellness.com/event/sacred-soul-hour-mindset-masterclass/2030-01-29/
LOCATION:Membership
CATEGORIES:Membership Event
ATTACH;FMTTYPE=image/jpeg:https://reneewalkerwellness.com/wp-content/uploads/2024/09/April24-33-1-2.jpg
END:VEVENT
BEGIN:VEVENT
DTSTART;TZID=America/Toronto:20300131T070000
DTEND;TZID=America/Toronto:20300131T073000
DTSTAMP:20260421T212340
CREATED:20250626T021255Z
LAST-MODIFIED:20260226T015525Z
UID:10005250-1896073200-1896075000@reneewalkerwellness.com
SUMMARY:Morning Energetics
DESCRIPTION:Thursday (Pre-recorded with Andrea Donnelly\, shown live at 7am):\nReceive energetic support and recalibration from Reiki Master Andrea Donnelly in this pre-recorded energy session\, streamed live each Thursday morning. Tune in to clear stagnant energy\, reconnect to your intuition\, and begin your day in energetic alignment. \nNot a member of the Spiritually Wired Membership yet? Join now!
URL:https://reneewalkerwellness.com/event/morning-energetics-4/2030-01-31/
LOCATION:Membership
CATEGORIES:Membership Event
ATTACH;FMTTYPE=image/jpeg:https://reneewalkerwellness.com/wp-content/uploads/2025/06/IMG_9003.jpg
END:VEVENT
BEGIN:VEVENT
DTSTART;TZID=America/Toronto:20300204T070000
DTEND;TZID=America/Toronto:20300204T073000
DTSTAMP:20260421T212340
CREATED:20250611T150249Z
LAST-MODIFIED:20260408T212503Z
UID:10004695-1896418800-1896420600@reneewalkerwellness.com
SUMMARY:Morning Energetics Live
DESCRIPTION:Monday (Live with Renee Walker):\nGround your energy and align with your higher self in real-time with Renee Walker. Start your week with clarity\, purpose\, and a calm\, focused mind. \nNot a member of the Spiritually Wired Membership yet? Join now!
URL:https://reneewalkerwellness.com/event/morning-energetics-3/2030-02-04/
LOCATION:Membership
CATEGORIES:Membership Event
ATTACH;FMTTYPE=image/jpeg:https://reneewalkerwellness.com/wp-content/uploads/2024/09/April24-33-1.jpg
END:VEVENT
BEGIN:VEVENT
DTSTART;TZID=America/Toronto:20300205T190000
DTEND;TZID=America/Toronto:20300205T200000
DTSTAMP:20260421T212340
CREATED:20240920T144000Z
LAST-MODIFIED:20260410T164520Z
UID:10004715-1896548400-1896552000@reneewalkerwellness.com
SUMMARY:Sacred Soul Hour: Monthly Intention Call
DESCRIPTION:FIRST TUESDAY OF THE MONTH 7PM\n\n\n\nReflect and set intentions for the month ahead\, keeping you focused on what truly matters.\n\n\nNot a member of the Spiritually Wired Membership yet? Join now!
URL:https://reneewalkerwellness.com/event/sacred-soul-hour-monthly-intention-call/2030-02-05/
LOCATION:Membership
CATEGORIES:Membership Event
ATTACH;FMTTYPE=image/jpeg:https://reneewalkerwellness.com/wp-content/uploads/2024/01/photomeinoffice.jpg
END:VEVENT
BEGIN:VEVENT
DTSTART;TZID=America/Toronto:20300207T070000
DTEND;TZID=America/Toronto:20300207T073000
DTSTAMP:20260421T212340
CREATED:20250626T021255Z
LAST-MODIFIED:20260226T015525Z
UID:10005251-1896678000-1896679800@reneewalkerwellness.com
SUMMARY:Morning Energetics
DESCRIPTION:Thursday (Pre-recorded with Andrea Donnelly\, shown live at 7am):\nReceive energetic support and recalibration from Reiki Master Andrea Donnelly in this pre-recorded energy session\, streamed live each Thursday morning. Tune in to clear stagnant energy\, reconnect to your intuition\, and begin your day in energetic alignment. \nNot a member of the Spiritually Wired Membership yet? Join now!
URL:https://reneewalkerwellness.com/event/morning-energetics-4/2030-02-07/
LOCATION:Membership
CATEGORIES:Membership Event
ATTACH;FMTTYPE=image/jpeg:https://reneewalkerwellness.com/wp-content/uploads/2025/06/IMG_9003.jpg
END:VEVENT
BEGIN:VEVENT
DTSTART;TZID=America/Toronto:20300211T070000
DTEND;TZID=America/Toronto:20300211T073000
DTSTAMP:20260421T212340
CREATED:20250611T150249Z
LAST-MODIFIED:20260408T212503Z
UID:10004696-1897023600-1897025400@reneewalkerwellness.com
SUMMARY:Morning Energetics Live
DESCRIPTION:Monday (Live with Renee Walker):\nGround your energy and align with your higher self in real-time with Renee Walker. Start your week with clarity\, purpose\, and a calm\, focused mind. \nNot a member of the Spiritually Wired Membership yet? Join now!
URL:https://reneewalkerwellness.com/event/morning-energetics-3/2030-02-11/
LOCATION:Membership
CATEGORIES:Membership Event
ATTACH;FMTTYPE=image/jpeg:https://reneewalkerwellness.com/wp-content/uploads/2024/09/April24-33-1.jpg
END:VEVENT
BEGIN:VEVENT
DTSTART;TZID=America/Toronto:20300212T190000
DTEND;TZID=America/Toronto:20300212T200000
DTSTAMP:20260421T212340
CREATED:20240918T182206Z
LAST-MODIFIED:20260413T182529Z
UID:10004727-1897153200-1897156800@reneewalkerwellness.com
SUMMARY:‘Sacred Soul Hour’ Mindset Masterclass
DESCRIPTION:TUESDAYS LIVE AT 7 PM\n\n\n\nTransform your mindset with soul lessons and practices in energy alignment\, meditation\, EFT tapping\, NLP\, hypnotherapy\, and more.\n\nNot a member of the Spiritually Wired Membership yet? Join now!
URL:https://reneewalkerwellness.com/event/sacred-soul-hour-mindset-masterclass/2030-02-12/
LOCATION:Membership
CATEGORIES:Membership Event
ATTACH;FMTTYPE=image/jpeg:https://reneewalkerwellness.com/wp-content/uploads/2024/09/April24-33-1-2.jpg
END:VEVENT
BEGIN:VEVENT
DTSTART;TZID=America/Toronto:20300214T070000
DTEND;TZID=America/Toronto:20300214T073000
DTSTAMP:20260421T212340
CREATED:20250626T021255Z
LAST-MODIFIED:20260226T015525Z
UID:10005252-1897282800-1897284600@reneewalkerwellness.com
SUMMARY:Morning Energetics
DESCRIPTION:Thursday (Pre-recorded with Andrea Donnelly\, shown live at 7am):\nReceive energetic support and recalibration from Reiki Master Andrea Donnelly in this pre-recorded energy session\, streamed live each Thursday morning. Tune in to clear stagnant energy\, reconnect to your intuition\, and begin your day in energetic alignment. \nNot a member of the Spiritually Wired Membership yet? Join now!
URL:https://reneewalkerwellness.com/event/morning-energetics-4/2030-02-14/
LOCATION:Membership
CATEGORIES:Membership Event
ATTACH;FMTTYPE=image/jpeg:https://reneewalkerwellness.com/wp-content/uploads/2025/06/IMG_9003.jpg
END:VEVENT
BEGIN:VEVENT
DTSTART;TZID=America/Toronto:20300218T070000
DTEND;TZID=America/Toronto:20300218T073000
DTSTAMP:20260421T212340
CREATED:20250611T150249Z
LAST-MODIFIED:20260408T212503Z
UID:10004697-1897628400-1897630200@reneewalkerwellness.com
SUMMARY:Morning Energetics Live
DESCRIPTION:Monday (Live with Renee Walker):\nGround your energy and align with your higher self in real-time with Renee Walker. Start your week with clarity\, purpose\, and a calm\, focused mind. \nNot a member of the Spiritually Wired Membership yet? Join now!
URL:https://reneewalkerwellness.com/event/morning-energetics-3/2030-02-18/
LOCATION:Membership
CATEGORIES:Membership Event
ATTACH;FMTTYPE=image/jpeg:https://reneewalkerwellness.com/wp-content/uploads/2024/09/April24-33-1.jpg
END:VEVENT
BEGIN:VEVENT
DTSTART;TZID=America/Toronto:20300219T190000
DTEND;TZID=America/Toronto:20300219T200000
DTSTAMP:20260421T212340
CREATED:20240918T182206Z
LAST-MODIFIED:20260413T182529Z
UID:10004728-1897758000-1897761600@reneewalkerwellness.com
SUMMARY:‘Sacred Soul Hour’ Mindset Masterclass
DESCRIPTION:TUESDAYS LIVE AT 7 PM\n\n\n\nTransform your mindset with soul lessons and practices in energy alignment\, meditation\, EFT tapping\, NLP\, hypnotherapy\, and more.\n\nNot a member of the Spiritually Wired Membership yet? Join now!
URL:https://reneewalkerwellness.com/event/sacred-soul-hour-mindset-masterclass/2030-02-19/
LOCATION:Membership
CATEGORIES:Membership Event
ATTACH;FMTTYPE=image/jpeg:https://reneewalkerwellness.com/wp-content/uploads/2024/09/April24-33-1-2.jpg
END:VEVENT
BEGIN:VEVENT
DTSTART;TZID=America/Toronto:20300220T120000
DTEND;TZID=America/Toronto:20300220T130000
DTSTAMP:20260421T212340
CREATED:20240918T183626Z
LAST-MODIFIED:20260102T171223Z
UID:10004430-1897819200-1897822800@reneewalkerwellness.com
SUMMARY:Soul Coaching Hour
DESCRIPTION: LIVE AT 12 PM\n\n\n\nReceive live coaching directly from Renée during this hour dedicated to healing & growth.\n\n\nNot a member of the Spiritually Wired Membership yet? Join now!
URL:https://reneewalkerwellness.com/event/soul-coaching-hour/2030-02-20/
LOCATION:Membership
CATEGORIES:Membership Event
ATTACH;FMTTYPE=image/jpeg:https://reneewalkerwellness.com/wp-content/uploads/2024/09/April24-69.jpg
END:VEVENT
BEGIN:VEVENT
DTSTART;TZID=America/Toronto:20300221T070000
DTEND;TZID=America/Toronto:20300221T073000
DTSTAMP:20260421T212340
CREATED:20250626T021255Z
LAST-MODIFIED:20260226T015525Z
UID:10005253-1897887600-1897889400@reneewalkerwellness.com
SUMMARY:Morning Energetics
DESCRIPTION:Thursday (Pre-recorded with Andrea Donnelly\, shown live at 7am):\nReceive energetic support and recalibration from Reiki Master Andrea Donnelly in this pre-recorded energy session\, streamed live each Thursday morning. Tune in to clear stagnant energy\, reconnect to your intuition\, and begin your day in energetic alignment. \nNot a member of the Spiritually Wired Membership yet? Join now!
URL:https://reneewalkerwellness.com/event/morning-energetics-4/2030-02-21/
LOCATION:Membership
CATEGORIES:Membership Event
ATTACH;FMTTYPE=image/jpeg:https://reneewalkerwellness.com/wp-content/uploads/2025/06/IMG_9003.jpg
END:VEVENT
BEGIN:VEVENT
DTSTART;TZID=America/Toronto:20300225T070000
DTEND;TZID=America/Toronto:20300225T073000
DTSTAMP:20260421T212340
CREATED:20250611T150249Z
LAST-MODIFIED:20260408T212503Z
UID:10004698-1898233200-1898235000@reneewalkerwellness.com
SUMMARY:Morning Energetics Live
DESCRIPTION:Monday (Live with Renee Walker):\nGround your energy and align with your higher self in real-time with Renee Walker. Start your week with clarity\, purpose\, and a calm\, focused mind. \nNot a member of the Spiritually Wired Membership yet? Join now!
URL:https://reneewalkerwellness.com/event/morning-energetics-3/2030-02-25/
LOCATION:Membership
CATEGORIES:Membership Event
ATTACH;FMTTYPE=image/jpeg:https://reneewalkerwellness.com/wp-content/uploads/2024/09/April24-33-1.jpg
END:VEVENT
BEGIN:VEVENT
DTSTART;TZID=America/Toronto:20300226T190000
DTEND;TZID=America/Toronto:20300226T200000
DTSTAMP:20260421T212340
CREATED:20240918T182206Z
LAST-MODIFIED:20260413T182529Z
UID:10004729-1898362800-1898366400@reneewalkerwellness.com
SUMMARY:‘Sacred Soul Hour’ Mindset Masterclass
DESCRIPTION:TUESDAYS LIVE AT 7 PM\n\n\n\nTransform your mindset with soul lessons and practices in energy alignment\, meditation\, EFT tapping\, NLP\, hypnotherapy\, and more.\n\nNot a member of the Spiritually Wired Membership yet? Join now!
URL:https://reneewalkerwellness.com/event/sacred-soul-hour-mindset-masterclass/2030-02-26/
LOCATION:Membership
CATEGORIES:Membership Event
ATTACH;FMTTYPE=image/jpeg:https://reneewalkerwellness.com/wp-content/uploads/2024/09/April24-33-1-2.jpg
END:VEVENT
BEGIN:VEVENT
DTSTART;TZID=America/Toronto:20300228T070000
DTEND;TZID=America/Toronto:20300228T073000
DTSTAMP:20260421T212340
CREATED:20250626T021255Z
LAST-MODIFIED:20260226T015525Z
UID:10005254-1898492400-1898494200@reneewalkerwellness.com
SUMMARY:Morning Energetics
DESCRIPTION:Thursday (Pre-recorded with Andrea Donnelly\, shown live at 7am):\nReceive energetic support and recalibration from Reiki Master Andrea Donnelly in this pre-recorded energy session\, streamed live each Thursday morning. Tune in to clear stagnant energy\, reconnect to your intuition\, and begin your day in energetic alignment. \nNot a member of the Spiritually Wired Membership yet? Join now!
URL:https://reneewalkerwellness.com/event/morning-energetics-4/2030-02-28/
LOCATION:Membership
CATEGORIES:Membership Event
ATTACH;FMTTYPE=image/jpeg:https://reneewalkerwellness.com/wp-content/uploads/2025/06/IMG_9003.jpg
END:VEVENT
BEGIN:VEVENT
DTSTART;TZID=America/Toronto:20300304T070000
DTEND;TZID=America/Toronto:20300304T073000
DTSTAMP:20260421T212340
CREATED:20250611T150249Z
LAST-MODIFIED:20260408T212503Z
UID:10004699-1898838000-1898839800@reneewalkerwellness.com
SUMMARY:Morning Energetics Live
DESCRIPTION:Monday (Live with Renee Walker):\nGround your energy and align with your higher self in real-time with Renee Walker. Start your week with clarity\, purpose\, and a calm\, focused mind. \nNot a member of the Spiritually Wired Membership yet? Join now!
URL:https://reneewalkerwellness.com/event/morning-energetics-3/2030-03-04/
LOCATION:Membership
CATEGORIES:Membership Event
ATTACH;FMTTYPE=image/jpeg:https://reneewalkerwellness.com/wp-content/uploads/2024/09/April24-33-1.jpg
END:VEVENT
BEGIN:VEVENT
DTSTART;TZID=America/Toronto:20300305T190000
DTEND;TZID=America/Toronto:20300305T200000
DTSTAMP:20260421T212340
CREATED:20240920T144000Z
LAST-MODIFIED:20260410T164520Z
UID:10004716-1898967600-1898971200@reneewalkerwellness.com
SUMMARY:Sacred Soul Hour: Monthly Intention Call
DESCRIPTION:FIRST TUESDAY OF THE MONTH 7PM\n\n\n\nReflect and set intentions for the month ahead\, keeping you focused on what truly matters.\n\n\nNot a member of the Spiritually Wired Membership yet? Join now!
URL:https://reneewalkerwellness.com/event/sacred-soul-hour-monthly-intention-call/2030-03-05/
LOCATION:Membership
CATEGORIES:Membership Event
ATTACH;FMTTYPE=image/jpeg:https://reneewalkerwellness.com/wp-content/uploads/2024/01/photomeinoffice.jpg
END:VEVENT
BEGIN:VEVENT
DTSTART;TZID=America/Toronto:20300307T070000
DTEND;TZID=America/Toronto:20300307T073000
DTSTAMP:20260421T212340
CREATED:20250626T021255Z
LAST-MODIFIED:20260226T015525Z
UID:10005255-1899097200-1899099000@reneewalkerwellness.com
SUMMARY:Morning Energetics
DESCRIPTION:Thursday (Pre-recorded with Andrea Donnelly\, shown live at 7am):\nReceive energetic support and recalibration from Reiki Master Andrea Donnelly in this pre-recorded energy session\, streamed live each Thursday morning. Tune in to clear stagnant energy\, reconnect to your intuition\, and begin your day in energetic alignment. \nNot a member of the Spiritually Wired Membership yet? Join now!
URL:https://reneewalkerwellness.com/event/morning-energetics-4/2030-03-07/
LOCATION:Membership
CATEGORIES:Membership Event
ATTACH;FMTTYPE=image/jpeg:https://reneewalkerwellness.com/wp-content/uploads/2025/06/IMG_9003.jpg
END:VEVENT
BEGIN:VEVENT
DTSTART;TZID=America/Toronto:20300311T070000
DTEND;TZID=America/Toronto:20300311T073000
DTSTAMP:20260421T212340
CREATED:20250611T150249Z
LAST-MODIFIED:20260408T212503Z
UID:10004700-1899442800-1899444600@reneewalkerwellness.com
SUMMARY:Morning Energetics Live
DESCRIPTION:Monday (Live with Renee Walker):\nGround your energy and align with your higher self in real-time with Renee Walker. Start your week with clarity\, purpose\, and a calm\, focused mind. \nNot a member of the Spiritually Wired Membership yet? Join now!
URL:https://reneewalkerwellness.com/event/morning-energetics-3/2030-03-11/
LOCATION:Membership
CATEGORIES:Membership Event
ATTACH;FMTTYPE=image/jpeg:https://reneewalkerwellness.com/wp-content/uploads/2024/09/April24-33-1.jpg
END:VEVENT
BEGIN:VEVENT
DTSTART;TZID=America/Toronto:20300312T190000
DTEND;TZID=America/Toronto:20300312T200000
DTSTAMP:20260421T212340
CREATED:20240918T182206Z
LAST-MODIFIED:20260413T182529Z
UID:10004730-1899572400-1899576000@reneewalkerwellness.com
SUMMARY:‘Sacred Soul Hour’ Mindset Masterclass
DESCRIPTION:TUESDAYS LIVE AT 7 PM\n\n\n\nTransform your mindset with soul lessons and practices in energy alignment\, meditation\, EFT tapping\, NLP\, hypnotherapy\, and more.\n\nNot a member of the Spiritually Wired Membership yet? Join now!
URL:https://reneewalkerwellness.com/event/sacred-soul-hour-mindset-masterclass/2030-03-12/
LOCATION:Membership
CATEGORIES:Membership Event
ATTACH;FMTTYPE=image/jpeg:https://reneewalkerwellness.com/wp-content/uploads/2024/09/April24-33-1-2.jpg
END:VEVENT
BEGIN:VEVENT
DTSTART;TZID=America/Toronto:20300314T070000
DTEND;TZID=America/Toronto:20300314T073000
DTSTAMP:20260421T212340
CREATED:20250626T021255Z
LAST-MODIFIED:20260226T015525Z
UID:10005256-1899702000-1899703800@reneewalkerwellness.com
SUMMARY:Morning Energetics
DESCRIPTION:Thursday (Pre-recorded with Andrea Donnelly\, shown live at 7am):\nReceive energetic support and recalibration from Reiki Master Andrea Donnelly in this pre-recorded energy session\, streamed live each Thursday morning. Tune in to clear stagnant energy\, reconnect to your intuition\, and begin your day in energetic alignment. \nNot a member of the Spiritually Wired Membership yet? Join now!
URL:https://reneewalkerwellness.com/event/morning-energetics-4/2030-03-14/
LOCATION:Membership
CATEGORIES:Membership Event
ATTACH;FMTTYPE=image/jpeg:https://reneewalkerwellness.com/wp-content/uploads/2025/06/IMG_9003.jpg
END:VEVENT
BEGIN:VEVENT
DTSTART;TZID=America/Toronto:20300318T070000
DTEND;TZID=America/Toronto:20300318T073000
DTSTAMP:20260421T212340
CREATED:20250611T150249Z
LAST-MODIFIED:20260408T212503Z
UID:10004701-1900047600-1900049400@reneewalkerwellness.com
SUMMARY:Morning Energetics Live
DESCRIPTION:Monday (Live with Renee Walker):\nGround your energy and align with your higher self in real-time with Renee Walker. Start your week with clarity\, purpose\, and a calm\, focused mind. \nNot a member of the Spiritually Wired Membership yet? Join now!
URL:https://reneewalkerwellness.com/event/morning-energetics-3/2030-03-18/
LOCATION:Membership
CATEGORIES:Membership Event
ATTACH;FMTTYPE=image/jpeg:https://reneewalkerwellness.com/wp-content/uploads/2024/09/April24-33-1.jpg
END:VEVENT
END:VCALENDAR