BEGIN:VCALENDAR
VERSION:2.0
PRODID:-//Renee Walker Wellness - ECPv6.15.20//NONSGML v1.0//EN
CALSCALE:GREGORIAN
METHOD:PUBLISH
X-ORIGINAL-URL:https://reneewalkerwellness.com
X-WR-CALDESC:Events for Renee Walker Wellness
REFRESH-INTERVAL;VALUE=DURATION:PT1H
X-Robots-Tag:noindex
X-PUBLISHED-TTL:PT1H
BEGIN:VTIMEZONE
TZID:America/Toronto
BEGIN:DAYLIGHT
TZOFFSETFROM:-0500
TZOFFSETTO:-0400
TZNAME:EDT
DTSTART:20260308T070000
END:DAYLIGHT
BEGIN:STANDARD
TZOFFSETFROM:-0400
TZOFFSETTO:-0500
TZNAME:EST
DTSTART:20261101T060000
END:STANDARD
BEGIN:DAYLIGHT
TZOFFSETFROM:-0500
TZOFFSETTO:-0400
TZNAME:EDT
DTSTART:20270314T070000
END:DAYLIGHT
BEGIN:STANDARD
TZOFFSETFROM:-0400
TZOFFSETTO:-0500
TZNAME:EST
DTSTART:20271107T060000
END:STANDARD
BEGIN:DAYLIGHT
TZOFFSETFROM:-0500
TZOFFSETTO:-0400
TZNAME:EDT
DTSTART:20280312T070000
END:DAYLIGHT
BEGIN:STANDARD
TZOFFSETFROM:-0400
TZOFFSETTO:-0500
TZNAME:EST
DTSTART:20281105T060000
END:STANDARD
END:VTIMEZONE
BEGIN:VEVENT
DTSTART;TZID=America/Toronto:20270803T190000
DTEND;TZID=America/Toronto:20270803T200000
DTSTAMP:20260419T130308
CREATED:20240920T144000Z
LAST-MODIFIED:20260410T164520Z
UID:10004102-1817319600-1817323200@reneewalkerwellness.com
SUMMARY:Sacred Soul Hour: Monthly Intention Call
DESCRIPTION:FIRST TUESDAY OF THE MONTH 7PM\n\n\n\nReflect and set intentions for the month ahead\, keeping you focused on what truly matters.\n\n\nNot a member of the Spiritually Wired Membership yet? Join now!
URL:https://reneewalkerwellness.com/event/sacred-soul-hour-monthly-intention-call/2027-08-03/
LOCATION:Membership
CATEGORIES:Membership Event
ATTACH;FMTTYPE=image/jpeg:https://reneewalkerwellness.com/wp-content/uploads/2024/01/photomeinoffice.jpg
END:VEVENT
BEGIN:VEVENT
DTSTART;TZID=America/Toronto:20270805T070000
DTEND;TZID=America/Toronto:20270805T073000
DTSTAMP:20260419T130308
CREATED:20250626T021255Z
LAST-MODIFIED:20260226T015525Z
UID:10005120-1817449200-1817451000@reneewalkerwellness.com
SUMMARY:Morning Energetics
DESCRIPTION:Thursday (Pre-recorded with Andrea Donnelly\, shown live at 7am):\nReceive energetic support and recalibration from Reiki Master Andrea Donnelly in this pre-recorded energy session\, streamed live each Thursday morning. Tune in to clear stagnant energy\, reconnect to your intuition\, and begin your day in energetic alignment. \nNot a member of the Spiritually Wired Membership yet? Join now!
URL:https://reneewalkerwellness.com/event/morning-energetics-4/2027-08-05/
LOCATION:Membership
CATEGORIES:Membership Event
ATTACH;FMTTYPE=image/jpeg:https://reneewalkerwellness.com/wp-content/uploads/2025/06/IMG_9003.jpg
END:VEVENT
BEGIN:VEVENT
DTSTART;TZID=America/Toronto:20270809T070000
DTEND;TZID=America/Toronto:20270809T073000
DTSTAMP:20260419T130308
CREATED:20250611T150249Z
LAST-MODIFIED:20260408T212503Z
UID:10004565-1817794800-1817796600@reneewalkerwellness.com
SUMMARY:Morning Energetics Live
DESCRIPTION:Monday (Live with Renee Walker):\nGround your energy and align with your higher self in real-time with Renee Walker. Start your week with clarity\, purpose\, and a calm\, focused mind. \nNot a member of the Spiritually Wired Membership yet? Join now!
URL:https://reneewalkerwellness.com/event/morning-energetics-3/2027-08-09/
LOCATION:Membership
CATEGORIES:Membership Event
ATTACH;FMTTYPE=image/jpeg:https://reneewalkerwellness.com/wp-content/uploads/2024/09/April24-33-1.jpg
END:VEVENT
BEGIN:VEVENT
DTSTART;TZID=America/Toronto:20270810T190000
DTEND;TZID=America/Toronto:20270810T200000
DTSTAMP:20260419T130308
CREATED:20240918T182206Z
LAST-MODIFIED:20260413T182529Z
UID:10003898-1817924400-1817928000@reneewalkerwellness.com
SUMMARY:‘Sacred Soul Hour’ Mindset Masterclass
DESCRIPTION:TUESDAYS LIVE AT 7 PM\n\n\n\nTransform your mindset with soul lessons and practices in energy alignment\, meditation\, EFT tapping\, NLP\, hypnotherapy\, and more.\n\nNot a member of the Spiritually Wired Membership yet? Join now!
URL:https://reneewalkerwellness.com/event/sacred-soul-hour-mindset-masterclass/2027-08-10/
LOCATION:Membership
CATEGORIES:Membership Event
ATTACH;FMTTYPE=image/jpeg:https://reneewalkerwellness.com/wp-content/uploads/2024/09/April24-33-1-2.jpg
END:VEVENT
BEGIN:VEVENT
DTSTART;TZID=America/Toronto:20270812T070000
DTEND;TZID=America/Toronto:20270812T073000
DTSTAMP:20260419T130308
CREATED:20250626T021255Z
LAST-MODIFIED:20260226T015525Z
UID:10005121-1818054000-1818055800@reneewalkerwellness.com
SUMMARY:Morning Energetics
DESCRIPTION:Thursday (Pre-recorded with Andrea Donnelly\, shown live at 7am):\nReceive energetic support and recalibration from Reiki Master Andrea Donnelly in this pre-recorded energy session\, streamed live each Thursday morning. Tune in to clear stagnant energy\, reconnect to your intuition\, and begin your day in energetic alignment. \nNot a member of the Spiritually Wired Membership yet? Join now!
URL:https://reneewalkerwellness.com/event/morning-energetics-4/2027-08-12/
LOCATION:Membership
CATEGORIES:Membership Event
ATTACH;FMTTYPE=image/jpeg:https://reneewalkerwellness.com/wp-content/uploads/2025/06/IMG_9003.jpg
END:VEVENT
BEGIN:VEVENT
DTSTART;TZID=America/Toronto:20270816T070000
DTEND;TZID=America/Toronto:20270816T073000
DTSTAMP:20260419T130308
CREATED:20250611T150249Z
LAST-MODIFIED:20260408T212503Z
UID:10004566-1818399600-1818401400@reneewalkerwellness.com
SUMMARY:Morning Energetics Live
DESCRIPTION:Monday (Live with Renee Walker):\nGround your energy and align with your higher self in real-time with Renee Walker. Start your week with clarity\, purpose\, and a calm\, focused mind. \nNot a member of the Spiritually Wired Membership yet? Join now!
URL:https://reneewalkerwellness.com/event/morning-energetics-3/2027-08-16/
LOCATION:Membership
CATEGORIES:Membership Event
ATTACH;FMTTYPE=image/jpeg:https://reneewalkerwellness.com/wp-content/uploads/2024/09/April24-33-1.jpg
END:VEVENT
BEGIN:VEVENT
DTSTART;TZID=America/Toronto:20270817T190000
DTEND;TZID=America/Toronto:20270817T200000
DTSTAMP:20260419T130308
CREATED:20240918T182206Z
LAST-MODIFIED:20260413T182529Z
UID:10003899-1818529200-1818532800@reneewalkerwellness.com
SUMMARY:‘Sacred Soul Hour’ Mindset Masterclass
DESCRIPTION:TUESDAYS LIVE AT 7 PM\n\n\n\nTransform your mindset with soul lessons and practices in energy alignment\, meditation\, EFT tapping\, NLP\, hypnotherapy\, and more.\n\nNot a member of the Spiritually Wired Membership yet? Join now!
URL:https://reneewalkerwellness.com/event/sacred-soul-hour-mindset-masterclass/2027-08-17/
LOCATION:Membership
CATEGORIES:Membership Event
ATTACH;FMTTYPE=image/jpeg:https://reneewalkerwellness.com/wp-content/uploads/2024/09/April24-33-1-2.jpg
END:VEVENT
BEGIN:VEVENT
DTSTART;TZID=America/Toronto:20270818T120000
DTEND;TZID=America/Toronto:20270818T130000
DTSTAMP:20260419T130308
CREATED:20240918T183626Z
LAST-MODIFIED:20260102T171223Z
UID:10004043-1818590400-1818594000@reneewalkerwellness.com
SUMMARY:Soul Coaching Hour
DESCRIPTION: LIVE AT 12 PM\n\n\n\nReceive live coaching directly from Renée during this hour dedicated to healing & growth.\n\n\nNot a member of the Spiritually Wired Membership yet? Join now!
URL:https://reneewalkerwellness.com/event/soul-coaching-hour/2027-08-18/
LOCATION:Membership
CATEGORIES:Membership Event
ATTACH;FMTTYPE=image/jpeg:https://reneewalkerwellness.com/wp-content/uploads/2024/09/April24-69.jpg
END:VEVENT
BEGIN:VEVENT
DTSTART;TZID=America/Toronto:20270819T070000
DTEND;TZID=America/Toronto:20270819T073000
DTSTAMP:20260419T130308
CREATED:20250626T021255Z
LAST-MODIFIED:20260226T015525Z
UID:10005122-1818658800-1818660600@reneewalkerwellness.com
SUMMARY:Morning Energetics
DESCRIPTION:Thursday (Pre-recorded with Andrea Donnelly\, shown live at 7am):\nReceive energetic support and recalibration from Reiki Master Andrea Donnelly in this pre-recorded energy session\, streamed live each Thursday morning. Tune in to clear stagnant energy\, reconnect to your intuition\, and begin your day in energetic alignment. \nNot a member of the Spiritually Wired Membership yet? Join now!
URL:https://reneewalkerwellness.com/event/morning-energetics-4/2027-08-19/
LOCATION:Membership
CATEGORIES:Membership Event
ATTACH;FMTTYPE=image/jpeg:https://reneewalkerwellness.com/wp-content/uploads/2025/06/IMG_9003.jpg
END:VEVENT
BEGIN:VEVENT
DTSTART;TZID=America/Toronto:20270823T070000
DTEND;TZID=America/Toronto:20270823T073000
DTSTAMP:20260419T130308
CREATED:20250611T150249Z
LAST-MODIFIED:20260408T212503Z
UID:10004567-1819004400-1819006200@reneewalkerwellness.com
SUMMARY:Morning Energetics Live
DESCRIPTION:Monday (Live with Renee Walker):\nGround your energy and align with your higher self in real-time with Renee Walker. Start your week with clarity\, purpose\, and a calm\, focused mind. \nNot a member of the Spiritually Wired Membership yet? Join now!
URL:https://reneewalkerwellness.com/event/morning-energetics-3/2027-08-23/
LOCATION:Membership
CATEGORIES:Membership Event
ATTACH;FMTTYPE=image/jpeg:https://reneewalkerwellness.com/wp-content/uploads/2024/09/April24-33-1.jpg
END:VEVENT
BEGIN:VEVENT
DTSTART;TZID=America/Toronto:20270824T190000
DTEND;TZID=America/Toronto:20270824T200000
DTSTAMP:20260419T130308
CREATED:20240918T182206Z
LAST-MODIFIED:20260413T182529Z
UID:10003900-1819134000-1819137600@reneewalkerwellness.com
SUMMARY:‘Sacred Soul Hour’ Mindset Masterclass
DESCRIPTION:TUESDAYS LIVE AT 7 PM\n\n\n\nTransform your mindset with soul lessons and practices in energy alignment\, meditation\, EFT tapping\, NLP\, hypnotherapy\, and more.\n\nNot a member of the Spiritually Wired Membership yet? Join now!
URL:https://reneewalkerwellness.com/event/sacred-soul-hour-mindset-masterclass/2027-08-24/
LOCATION:Membership
CATEGORIES:Membership Event
ATTACH;FMTTYPE=image/jpeg:https://reneewalkerwellness.com/wp-content/uploads/2024/09/April24-33-1-2.jpg
END:VEVENT
BEGIN:VEVENT
DTSTART;TZID=America/Toronto:20270826T070000
DTEND;TZID=America/Toronto:20270826T073000
DTSTAMP:20260419T130308
CREATED:20250626T021255Z
LAST-MODIFIED:20260226T015525Z
UID:10005123-1819263600-1819265400@reneewalkerwellness.com
SUMMARY:Morning Energetics
DESCRIPTION:Thursday (Pre-recorded with Andrea Donnelly\, shown live at 7am):\nReceive energetic support and recalibration from Reiki Master Andrea Donnelly in this pre-recorded energy session\, streamed live each Thursday morning. Tune in to clear stagnant energy\, reconnect to your intuition\, and begin your day in energetic alignment. \nNot a member of the Spiritually Wired Membership yet? Join now!
URL:https://reneewalkerwellness.com/event/morning-energetics-4/2027-08-26/
LOCATION:Membership
CATEGORIES:Membership Event
ATTACH;FMTTYPE=image/jpeg:https://reneewalkerwellness.com/wp-content/uploads/2025/06/IMG_9003.jpg
END:VEVENT
BEGIN:VEVENT
DTSTART;TZID=America/Toronto:20270830T070000
DTEND;TZID=America/Toronto:20270830T073000
DTSTAMP:20260419T130308
CREATED:20250611T150249Z
LAST-MODIFIED:20260408T212503Z
UID:10004568-1819609200-1819611000@reneewalkerwellness.com
SUMMARY:Morning Energetics Live
DESCRIPTION:Monday (Live with Renee Walker):\nGround your energy and align with your higher self in real-time with Renee Walker. Start your week with clarity\, purpose\, and a calm\, focused mind. \nNot a member of the Spiritually Wired Membership yet? Join now!
URL:https://reneewalkerwellness.com/event/morning-energetics-3/2027-08-30/
LOCATION:Membership
CATEGORIES:Membership Event
ATTACH;FMTTYPE=image/jpeg:https://reneewalkerwellness.com/wp-content/uploads/2024/09/April24-33-1.jpg
END:VEVENT
BEGIN:VEVENT
DTSTART;TZID=America/Toronto:20270831T190000
DTEND;TZID=America/Toronto:20270831T200000
DTSTAMP:20260419T130308
CREATED:20240918T182206Z
LAST-MODIFIED:20260413T182529Z
UID:10003901-1819738800-1819742400@reneewalkerwellness.com
SUMMARY:‘Sacred Soul Hour’ Mindset Masterclass
DESCRIPTION:TUESDAYS LIVE AT 7 PM\n\n\n\nTransform your mindset with soul lessons and practices in energy alignment\, meditation\, EFT tapping\, NLP\, hypnotherapy\, and more.\n\nNot a member of the Spiritually Wired Membership yet? Join now!
URL:https://reneewalkerwellness.com/event/sacred-soul-hour-mindset-masterclass/2027-08-31/
LOCATION:Membership
CATEGORIES:Membership Event
ATTACH;FMTTYPE=image/jpeg:https://reneewalkerwellness.com/wp-content/uploads/2024/09/April24-33-1-2.jpg
END:VEVENT
BEGIN:VEVENT
DTSTART;TZID=America/Toronto:20270902T070000
DTEND;TZID=America/Toronto:20270902T073000
DTSTAMP:20260419T130308
CREATED:20250626T021255Z
LAST-MODIFIED:20260226T015525Z
UID:10005124-1819868400-1819870200@reneewalkerwellness.com
SUMMARY:Morning Energetics
DESCRIPTION:Thursday (Pre-recorded with Andrea Donnelly\, shown live at 7am):\nReceive energetic support and recalibration from Reiki Master Andrea Donnelly in this pre-recorded energy session\, streamed live each Thursday morning. Tune in to clear stagnant energy\, reconnect to your intuition\, and begin your day in energetic alignment. \nNot a member of the Spiritually Wired Membership yet? Join now!
URL:https://reneewalkerwellness.com/event/morning-energetics-4/2027-09-02/
LOCATION:Membership
CATEGORIES:Membership Event
ATTACH;FMTTYPE=image/jpeg:https://reneewalkerwellness.com/wp-content/uploads/2025/06/IMG_9003.jpg
END:VEVENT
BEGIN:VEVENT
DTSTART;TZID=America/Toronto:20270906T070000
DTEND;TZID=America/Toronto:20270906T073000
DTSTAMP:20260419T130308
CREATED:20250611T150249Z
LAST-MODIFIED:20260408T212503Z
UID:10004569-1820214000-1820215800@reneewalkerwellness.com
SUMMARY:Morning Energetics Live
DESCRIPTION:Monday (Live with Renee Walker):\nGround your energy and align with your higher self in real-time with Renee Walker. Start your week with clarity\, purpose\, and a calm\, focused mind. \nNot a member of the Spiritually Wired Membership yet? Join now!
URL:https://reneewalkerwellness.com/event/morning-energetics-3/2027-09-06/
LOCATION:Membership
CATEGORIES:Membership Event
ATTACH;FMTTYPE=image/jpeg:https://reneewalkerwellness.com/wp-content/uploads/2024/09/April24-33-1.jpg
END:VEVENT
BEGIN:VEVENT
DTSTART;TZID=America/Toronto:20270907T190000
DTEND;TZID=America/Toronto:20270907T200000
DTSTAMP:20260419T130308
CREATED:20240920T144000Z
LAST-MODIFIED:20260410T164520Z
UID:10004103-1820343600-1820347200@reneewalkerwellness.com
SUMMARY:Sacred Soul Hour: Monthly Intention Call
DESCRIPTION:FIRST TUESDAY OF THE MONTH 7PM\n\n\n\nReflect and set intentions for the month ahead\, keeping you focused on what truly matters.\n\n\nNot a member of the Spiritually Wired Membership yet? Join now!
URL:https://reneewalkerwellness.com/event/sacred-soul-hour-monthly-intention-call/2027-09-07/
LOCATION:Membership
CATEGORIES:Membership Event
ATTACH;FMTTYPE=image/jpeg:https://reneewalkerwellness.com/wp-content/uploads/2024/01/photomeinoffice.jpg
END:VEVENT
BEGIN:VEVENT
DTSTART;TZID=America/Toronto:20270909T070000
DTEND;TZID=America/Toronto:20270909T073000
DTSTAMP:20260419T130308
CREATED:20250626T021255Z
LAST-MODIFIED:20260226T015525Z
UID:10005125-1820473200-1820475000@reneewalkerwellness.com
SUMMARY:Morning Energetics
DESCRIPTION:Thursday (Pre-recorded with Andrea Donnelly\, shown live at 7am):\nReceive energetic support and recalibration from Reiki Master Andrea Donnelly in this pre-recorded energy session\, streamed live each Thursday morning. Tune in to clear stagnant energy\, reconnect to your intuition\, and begin your day in energetic alignment. \nNot a member of the Spiritually Wired Membership yet? Join now!
URL:https://reneewalkerwellness.com/event/morning-energetics-4/2027-09-09/
LOCATION:Membership
CATEGORIES:Membership Event
ATTACH;FMTTYPE=image/jpeg:https://reneewalkerwellness.com/wp-content/uploads/2025/06/IMG_9003.jpg
END:VEVENT
BEGIN:VEVENT
DTSTART;TZID=America/Toronto:20270913T070000
DTEND;TZID=America/Toronto:20270913T073000
DTSTAMP:20260419T130308
CREATED:20250611T150249Z
LAST-MODIFIED:20260408T212503Z
UID:10004570-1820818800-1820820600@reneewalkerwellness.com
SUMMARY:Morning Energetics Live
DESCRIPTION:Monday (Live with Renee Walker):\nGround your energy and align with your higher self in real-time with Renee Walker. Start your week with clarity\, purpose\, and a calm\, focused mind. \nNot a member of the Spiritually Wired Membership yet? Join now!
URL:https://reneewalkerwellness.com/event/morning-energetics-3/2027-09-13/
LOCATION:Membership
CATEGORIES:Membership Event
ATTACH;FMTTYPE=image/jpeg:https://reneewalkerwellness.com/wp-content/uploads/2024/09/April24-33-1.jpg
END:VEVENT
BEGIN:VEVENT
DTSTART;TZID=America/Toronto:20270914T190000
DTEND;TZID=America/Toronto:20270914T200000
DTSTAMP:20260419T130308
CREATED:20240918T182206Z
LAST-MODIFIED:20260413T182529Z
UID:10003903-1820948400-1820952000@reneewalkerwellness.com
SUMMARY:‘Sacred Soul Hour’ Mindset Masterclass
DESCRIPTION:TUESDAYS LIVE AT 7 PM\n\n\n\nTransform your mindset with soul lessons and practices in energy alignment\, meditation\, EFT tapping\, NLP\, hypnotherapy\, and more.\n\nNot a member of the Spiritually Wired Membership yet? Join now!
URL:https://reneewalkerwellness.com/event/sacred-soul-hour-mindset-masterclass/2027-09-14/
LOCATION:Membership
CATEGORIES:Membership Event
ATTACH;FMTTYPE=image/jpeg:https://reneewalkerwellness.com/wp-content/uploads/2024/09/April24-33-1-2.jpg
END:VEVENT
BEGIN:VEVENT
DTSTART;TZID=America/Toronto:20270915T120000
DTEND;TZID=America/Toronto:20270915T130000
DTSTAMP:20260419T130308
CREATED:20240918T183626Z
LAST-MODIFIED:20260102T171223Z
UID:10004044-1821009600-1821013200@reneewalkerwellness.com
SUMMARY:Soul Coaching Hour
DESCRIPTION: LIVE AT 12 PM\n\n\n\nReceive live coaching directly from Renée during this hour dedicated to healing & growth.\n\n\nNot a member of the Spiritually Wired Membership yet? Join now!
URL:https://reneewalkerwellness.com/event/soul-coaching-hour/2027-09-15/
LOCATION:Membership
CATEGORIES:Membership Event
ATTACH;FMTTYPE=image/jpeg:https://reneewalkerwellness.com/wp-content/uploads/2024/09/April24-69.jpg
END:VEVENT
BEGIN:VEVENT
DTSTART;TZID=America/Toronto:20270916T070000
DTEND;TZID=America/Toronto:20270916T073000
DTSTAMP:20260419T130308
CREATED:20250626T021255Z
LAST-MODIFIED:20260226T015525Z
UID:10005126-1821078000-1821079800@reneewalkerwellness.com
SUMMARY:Morning Energetics
DESCRIPTION:Thursday (Pre-recorded with Andrea Donnelly\, shown live at 7am):\nReceive energetic support and recalibration from Reiki Master Andrea Donnelly in this pre-recorded energy session\, streamed live each Thursday morning. Tune in to clear stagnant energy\, reconnect to your intuition\, and begin your day in energetic alignment. \nNot a member of the Spiritually Wired Membership yet? Join now!
URL:https://reneewalkerwellness.com/event/morning-energetics-4/2027-09-16/
LOCATION:Membership
CATEGORIES:Membership Event
ATTACH;FMTTYPE=image/jpeg:https://reneewalkerwellness.com/wp-content/uploads/2025/06/IMG_9003.jpg
END:VEVENT
BEGIN:VEVENT
DTSTART;TZID=America/Toronto:20270920T070000
DTEND;TZID=America/Toronto:20270920T073000
DTSTAMP:20260419T130308
CREATED:20250611T150249Z
LAST-MODIFIED:20260408T212503Z
UID:10004571-1821423600-1821425400@reneewalkerwellness.com
SUMMARY:Morning Energetics Live
DESCRIPTION:Monday (Live with Renee Walker):\nGround your energy and align with your higher self in real-time with Renee Walker. Start your week with clarity\, purpose\, and a calm\, focused mind. \nNot a member of the Spiritually Wired Membership yet? Join now!
URL:https://reneewalkerwellness.com/event/morning-energetics-3/2027-09-20/
LOCATION:Membership
CATEGORIES:Membership Event
ATTACH;FMTTYPE=image/jpeg:https://reneewalkerwellness.com/wp-content/uploads/2024/09/April24-33-1.jpg
END:VEVENT
BEGIN:VEVENT
DTSTART;TZID=America/Toronto:20270921T190000
DTEND;TZID=America/Toronto:20270921T200000
DTSTAMP:20260419T130308
CREATED:20240918T182206Z
LAST-MODIFIED:20260413T182529Z
UID:10003904-1821553200-1821556800@reneewalkerwellness.com
SUMMARY:‘Sacred Soul Hour’ Mindset Masterclass
DESCRIPTION:TUESDAYS LIVE AT 7 PM\n\n\n\nTransform your mindset with soul lessons and practices in energy alignment\, meditation\, EFT tapping\, NLP\, hypnotherapy\, and more.\n\nNot a member of the Spiritually Wired Membership yet? Join now!
URL:https://reneewalkerwellness.com/event/sacred-soul-hour-mindset-masterclass/2027-09-21/
LOCATION:Membership
CATEGORIES:Membership Event
ATTACH;FMTTYPE=image/jpeg:https://reneewalkerwellness.com/wp-content/uploads/2024/09/April24-33-1-2.jpg
END:VEVENT
BEGIN:VEVENT
DTSTART;TZID=America/Toronto:20270923T070000
DTEND;TZID=America/Toronto:20270923T073000
DTSTAMP:20260419T130308
CREATED:20250626T021255Z
LAST-MODIFIED:20260226T015525Z
UID:10005127-1821682800-1821684600@reneewalkerwellness.com
SUMMARY:Morning Energetics
DESCRIPTION:Thursday (Pre-recorded with Andrea Donnelly\, shown live at 7am):\nReceive energetic support and recalibration from Reiki Master Andrea Donnelly in this pre-recorded energy session\, streamed live each Thursday morning. Tune in to clear stagnant energy\, reconnect to your intuition\, and begin your day in energetic alignment. \nNot a member of the Spiritually Wired Membership yet? Join now!
URL:https://reneewalkerwellness.com/event/morning-energetics-4/2027-09-23/
LOCATION:Membership
CATEGORIES:Membership Event
ATTACH;FMTTYPE=image/jpeg:https://reneewalkerwellness.com/wp-content/uploads/2025/06/IMG_9003.jpg
END:VEVENT
BEGIN:VEVENT
DTSTART;TZID=America/Toronto:20270927T070000
DTEND;TZID=America/Toronto:20270927T073000
DTSTAMP:20260419T130308
CREATED:20250611T150249Z
LAST-MODIFIED:20260408T212503Z
UID:10004572-1822028400-1822030200@reneewalkerwellness.com
SUMMARY:Morning Energetics Live
DESCRIPTION:Monday (Live with Renee Walker):\nGround your energy and align with your higher self in real-time with Renee Walker. Start your week with clarity\, purpose\, and a calm\, focused mind. \nNot a member of the Spiritually Wired Membership yet? Join now!
URL:https://reneewalkerwellness.com/event/morning-energetics-3/2027-09-27/
LOCATION:Membership
CATEGORIES:Membership Event
ATTACH;FMTTYPE=image/jpeg:https://reneewalkerwellness.com/wp-content/uploads/2024/09/April24-33-1.jpg
END:VEVENT
BEGIN:VEVENT
DTSTART;TZID=America/Toronto:20270928T190000
DTEND;TZID=America/Toronto:20270928T200000
DTSTAMP:20260419T130308
CREATED:20240918T182206Z
LAST-MODIFIED:20260413T182529Z
UID:10003905-1822158000-1822161600@reneewalkerwellness.com
SUMMARY:‘Sacred Soul Hour’ Mindset Masterclass
DESCRIPTION:TUESDAYS LIVE AT 7 PM\n\n\n\nTransform your mindset with soul lessons and practices in energy alignment\, meditation\, EFT tapping\, NLP\, hypnotherapy\, and more.\n\nNot a member of the Spiritually Wired Membership yet? Join now!
URL:https://reneewalkerwellness.com/event/sacred-soul-hour-mindset-masterclass/2027-09-28/
LOCATION:Membership
CATEGORIES:Membership Event
ATTACH;FMTTYPE=image/jpeg:https://reneewalkerwellness.com/wp-content/uploads/2024/09/April24-33-1-2.jpg
END:VEVENT
BEGIN:VEVENT
DTSTART;TZID=America/Toronto:20270930T070000
DTEND;TZID=America/Toronto:20270930T073000
DTSTAMP:20260419T130308
CREATED:20250626T021255Z
LAST-MODIFIED:20260226T015525Z
UID:10005128-1822287600-1822289400@reneewalkerwellness.com
SUMMARY:Morning Energetics
DESCRIPTION:Thursday (Pre-recorded with Andrea Donnelly\, shown live at 7am):\nReceive energetic support and recalibration from Reiki Master Andrea Donnelly in this pre-recorded energy session\, streamed live each Thursday morning. Tune in to clear stagnant energy\, reconnect to your intuition\, and begin your day in energetic alignment. \nNot a member of the Spiritually Wired Membership yet? Join now!
URL:https://reneewalkerwellness.com/event/morning-energetics-4/2027-09-30/
LOCATION:Membership
CATEGORIES:Membership Event
ATTACH;FMTTYPE=image/jpeg:https://reneewalkerwellness.com/wp-content/uploads/2025/06/IMG_9003.jpg
END:VEVENT
BEGIN:VEVENT
DTSTART;TZID=America/Toronto:20271004T070000
DTEND;TZID=America/Toronto:20271004T073000
DTSTAMP:20260419T130308
CREATED:20250611T150249Z
LAST-MODIFIED:20260408T212503Z
UID:10004573-1822633200-1822635000@reneewalkerwellness.com
SUMMARY:Morning Energetics Live
DESCRIPTION:Monday (Live with Renee Walker):\nGround your energy and align with your higher self in real-time with Renee Walker. Start your week with clarity\, purpose\, and a calm\, focused mind. \nNot a member of the Spiritually Wired Membership yet? Join now!
URL:https://reneewalkerwellness.com/event/morning-energetics-3/2027-10-04/
LOCATION:Membership
CATEGORIES:Membership Event
ATTACH;FMTTYPE=image/jpeg:https://reneewalkerwellness.com/wp-content/uploads/2024/09/April24-33-1.jpg
END:VEVENT
BEGIN:VEVENT
DTSTART;TZID=America/Toronto:20271005T190000
DTEND;TZID=America/Toronto:20271005T200000
DTSTAMP:20260419T130308
CREATED:20240920T144000Z
LAST-MODIFIED:20260410T164520Z
UID:10004104-1822762800-1822766400@reneewalkerwellness.com
SUMMARY:Sacred Soul Hour: Monthly Intention Call
DESCRIPTION:FIRST TUESDAY OF THE MONTH 7PM\n\n\n\nReflect and set intentions for the month ahead\, keeping you focused on what truly matters.\n\n\nNot a member of the Spiritually Wired Membership yet? Join now!
URL:https://reneewalkerwellness.com/event/sacred-soul-hour-monthly-intention-call/2027-10-05/
LOCATION:Membership
CATEGORIES:Membership Event
ATTACH;FMTTYPE=image/jpeg:https://reneewalkerwellness.com/wp-content/uploads/2024/01/photomeinoffice.jpg
END:VEVENT
END:VCALENDAR