BEGIN:VCALENDAR
VERSION:2.0
PRODID:-//Renee Walker Wellness - ECPv6.15.20//NONSGML v1.0//EN
CALSCALE:GREGORIAN
METHOD:PUBLISH
X-WR-CALNAME:Renee Walker Wellness
X-ORIGINAL-URL:https://reneewalkerwellness.com
X-WR-CALDESC:Events for Renee Walker Wellness
REFRESH-INTERVAL;VALUE=DURATION:PT1H
X-Robots-Tag:noindex
X-PUBLISHED-TTL:PT1H
BEGIN:VTIMEZONE
TZID:America/Toronto
BEGIN:DAYLIGHT
TZOFFSETFROM:-0500
TZOFFSETTO:-0400
TZNAME:EDT
DTSTART:20290311T070000
END:DAYLIGHT
BEGIN:STANDARD
TZOFFSETFROM:-0400
TZOFFSETTO:-0500
TZNAME:EST
DTSTART:20291104T060000
END:STANDARD
BEGIN:DAYLIGHT
TZOFFSETFROM:-0500
TZOFFSETTO:-0400
TZNAME:EDT
DTSTART:20300310T070000
END:DAYLIGHT
BEGIN:STANDARD
TZOFFSETFROM:-0400
TZOFFSETTO:-0500
TZNAME:EST
DTSTART:20301103T060000
END:STANDARD
BEGIN:DAYLIGHT
TZOFFSETFROM:-0500
TZOFFSETTO:-0400
TZNAME:EDT
DTSTART:20310309T070000
END:DAYLIGHT
BEGIN:STANDARD
TZOFFSETFROM:-0400
TZOFFSETTO:-0500
TZNAME:EST
DTSTART:20311102T060000
END:STANDARD
END:VTIMEZONE
BEGIN:VEVENT
DTSTART;TZID=America/Toronto:20300617T070000
DTEND;TZID=America/Toronto:20300617T073000
DTSTAMP:20260422T175625
CREATED:20250611T150249Z
LAST-MODIFIED:20260408T212503Z
UID:10004744-1907910000-1907911800@reneewalkerwellness.com
SUMMARY:Morning Energetics Live
DESCRIPTION:Monday (Live with Renee Walker):\nGround your energy and align with your higher self in real-time with Renee Walker. Start your week with clarity\, purpose\, and a calm\, focused mind. \nNot a member of the Spiritually Wired Membership yet? Join now!
URL:https://reneewalkerwellness.com/event/morning-energetics-3/2030-06-17/
LOCATION:Membership
CATEGORIES:Membership Event
ATTACH;FMTTYPE=image/jpeg:https://reneewalkerwellness.com/wp-content/uploads/2024/09/April24-33-1.jpg
END:VEVENT
BEGIN:VEVENT
DTSTART;TZID=America/Toronto:20300618T190000
DTEND;TZID=America/Toronto:20300618T200000
DTSTAMP:20260422T175625
CREATED:20240918T182206Z
LAST-MODIFIED:20260413T182529Z
UID:10004747-1908039600-1908043200@reneewalkerwellness.com
SUMMARY:‘Sacred Soul Hour’ Mindset Masterclass
DESCRIPTION:TUESDAYS LIVE AT 7 PM\n\n\n\nTransform your mindset with soul lessons and practices in energy alignment\, meditation\, EFT tapping\, NLP\, hypnotherapy\, and more.\n\nNot a member of the Spiritually Wired Membership yet? Join now!
URL:https://reneewalkerwellness.com/event/sacred-soul-hour-mindset-masterclass/2030-06-18/
LOCATION:Membership
CATEGORIES:Membership Event
ATTACH;FMTTYPE=image/jpeg:https://reneewalkerwellness.com/wp-content/uploads/2024/09/April24-33-1-2.jpg
END:VEVENT
BEGIN:VEVENT
DTSTART;TZID=America/Toronto:20300619T120000
DTEND;TZID=America/Toronto:20300619T130000
DTSTAMP:20260422T175625
CREATED:20240918T183626Z
LAST-MODIFIED:20260102T171223Z
UID:10004745-1908100800-1908104400@reneewalkerwellness.com
SUMMARY:Soul Coaching Hour
DESCRIPTION: LIVE AT 12 PM\n\n\n\nReceive live coaching directly from Renée during this hour dedicated to healing & growth.\n\n\nNot a member of the Spiritually Wired Membership yet? Join now!
URL:https://reneewalkerwellness.com/event/soul-coaching-hour/2030-06-19/
LOCATION:Membership
CATEGORIES:Membership Event
ATTACH;FMTTYPE=image/jpeg:https://reneewalkerwellness.com/wp-content/uploads/2024/09/April24-69.jpg
END:VEVENT
BEGIN:VEVENT
DTSTART;TZID=America/Toronto:20300620T070000
DTEND;TZID=America/Toronto:20300620T073000
DTSTAMP:20260422T175625
CREATED:20250626T021255Z
LAST-MODIFIED:20260226T015525Z
UID:10005270-1908169200-1908171000@reneewalkerwellness.com
SUMMARY:Morning Energetics
DESCRIPTION:Thursday (Pre-recorded with Andrea Donnelly\, shown live at 7am):\nReceive energetic support and recalibration from Reiki Master Andrea Donnelly in this pre-recorded energy session\, streamed live each Thursday morning. Tune in to clear stagnant energy\, reconnect to your intuition\, and begin your day in energetic alignment. \nNot a member of the Spiritually Wired Membership yet? Join now!
URL:https://reneewalkerwellness.com/event/morning-energetics-4/2030-06-20/
LOCATION:Membership
CATEGORIES:Membership Event
ATTACH;FMTTYPE=image/jpeg:https://reneewalkerwellness.com/wp-content/uploads/2025/06/IMG_9003.jpg
END:VEVENT
BEGIN:VEVENT
DTSTART;TZID=America/Toronto:20300624T070000
DTEND;TZID=America/Toronto:20300624T073000
DTSTAMP:20260422T175625
CREATED:20250611T150249Z
LAST-MODIFIED:20260408T212503Z
UID:10004750-1908514800-1908516600@reneewalkerwellness.com
SUMMARY:Morning Energetics Live
DESCRIPTION:Monday (Live with Renee Walker):\nGround your energy and align with your higher self in real-time with Renee Walker. Start your week with clarity\, purpose\, and a calm\, focused mind. \nNot a member of the Spiritually Wired Membership yet? Join now!
URL:https://reneewalkerwellness.com/event/morning-energetics-3/2030-06-24/
LOCATION:Membership
CATEGORIES:Membership Event
ATTACH;FMTTYPE=image/jpeg:https://reneewalkerwellness.com/wp-content/uploads/2024/09/April24-33-1.jpg
END:VEVENT
BEGIN:VEVENT
DTSTART;TZID=America/Toronto:20300625T190000
DTEND;TZID=America/Toronto:20300625T200000
DTSTAMP:20260422T175625
CREATED:20240918T182206Z
LAST-MODIFIED:20260413T182529Z
UID:10004751-1908644400-1908648000@reneewalkerwellness.com
SUMMARY:‘Sacred Soul Hour’ Mindset Masterclass
DESCRIPTION:TUESDAYS LIVE AT 7 PM\n\n\n\nTransform your mindset with soul lessons and practices in energy alignment\, meditation\, EFT tapping\, NLP\, hypnotherapy\, and more.\n\nNot a member of the Spiritually Wired Membership yet? Join now!
URL:https://reneewalkerwellness.com/event/sacred-soul-hour-mindset-masterclass/2030-06-25/
LOCATION:Membership
CATEGORIES:Membership Event
ATTACH;FMTTYPE=image/jpeg:https://reneewalkerwellness.com/wp-content/uploads/2024/09/April24-33-1-2.jpg
END:VEVENT
BEGIN:VEVENT
DTSTART;TZID=America/Toronto:20300627T070000
DTEND;TZID=America/Toronto:20300627T073000
DTSTAMP:20260422T175625
CREATED:20250626T021255Z
LAST-MODIFIED:20260226T015525Z
UID:10005308-1908774000-1908775800@reneewalkerwellness.com
SUMMARY:Morning Energetics
DESCRIPTION:Thursday (Pre-recorded with Andrea Donnelly\, shown live at 7am):\nReceive energetic support and recalibration from Reiki Master Andrea Donnelly in this pre-recorded energy session\, streamed live each Thursday morning. Tune in to clear stagnant energy\, reconnect to your intuition\, and begin your day in energetic alignment. \nNot a member of the Spiritually Wired Membership yet? Join now!
URL:https://reneewalkerwellness.com/event/morning-energetics-4/2030-06-27/
LOCATION:Membership
CATEGORIES:Membership Event
ATTACH;FMTTYPE=image/jpeg:https://reneewalkerwellness.com/wp-content/uploads/2025/06/IMG_9003.jpg
END:VEVENT
BEGIN:VEVENT
DTSTART;TZID=America/Toronto:20300701T070000
DTEND;TZID=America/Toronto:20300701T073000
DTSTAMP:20260422T175625
CREATED:20250611T150249Z
LAST-MODIFIED:20260408T212503Z
UID:10005293-1909119600-1909121400@reneewalkerwellness.com
SUMMARY:Morning Energetics Live
DESCRIPTION:Monday (Live with Renee Walker):\nGround your energy and align with your higher self in real-time with Renee Walker. Start your week with clarity\, purpose\, and a calm\, focused mind. \nNot a member of the Spiritually Wired Membership yet? Join now!
URL:https://reneewalkerwellness.com/event/morning-energetics-3/2030-07-01/
LOCATION:Membership
CATEGORIES:Membership Event
ATTACH;FMTTYPE=image/jpeg:https://reneewalkerwellness.com/wp-content/uploads/2024/09/April24-33-1.jpg
END:VEVENT
BEGIN:VEVENT
DTSTART;TZID=America/Toronto:20300702T190000
DTEND;TZID=America/Toronto:20300702T200000
DTSTAMP:20260422T175625
CREATED:20240920T144000Z
LAST-MODIFIED:20260410T164520Z
UID:10005285-1909249200-1909252800@reneewalkerwellness.com
SUMMARY:Sacred Soul Hour: Monthly Intention Call
DESCRIPTION:FIRST TUESDAY OF THE MONTH 7PM\n\n\n\nReflect and set intentions for the month ahead\, keeping you focused on what truly matters.\n\n\nNot a member of the Spiritually Wired Membership yet? Join now!
URL:https://reneewalkerwellness.com/event/sacred-soul-hour-monthly-intention-call/2030-07-02/
LOCATION:Membership
CATEGORIES:Membership Event
ATTACH;FMTTYPE=image/jpeg:https://reneewalkerwellness.com/wp-content/uploads/2024/01/photomeinoffice.jpg
END:VEVENT
BEGIN:VEVENT
DTSTART;TZID=America/Toronto:20300704T070000
DTEND;TZID=America/Toronto:20300704T073000
DTSTAMP:20260422T175625
CREATED:20250626T021255Z
LAST-MODIFIED:20260226T015525Z
UID:10005309-1909378800-1909380600@reneewalkerwellness.com
SUMMARY:Morning Energetics
DESCRIPTION:Thursday (Pre-recorded with Andrea Donnelly\, shown live at 7am):\nReceive energetic support and recalibration from Reiki Master Andrea Donnelly in this pre-recorded energy session\, streamed live each Thursday morning. Tune in to clear stagnant energy\, reconnect to your intuition\, and begin your day in energetic alignment. \nNot a member of the Spiritually Wired Membership yet? Join now!
URL:https://reneewalkerwellness.com/event/morning-energetics-4/2030-07-04/
LOCATION:Membership
CATEGORIES:Membership Event
ATTACH;FMTTYPE=image/jpeg:https://reneewalkerwellness.com/wp-content/uploads/2025/06/IMG_9003.jpg
END:VEVENT
BEGIN:VEVENT
DTSTART;TZID=America/Toronto:20300708T070000
DTEND;TZID=America/Toronto:20300708T073000
DTSTAMP:20260422T175625
CREATED:20250611T150249Z
LAST-MODIFIED:20260408T212503Z
UID:10005294-1909724400-1909726200@reneewalkerwellness.com
SUMMARY:Morning Energetics Live
DESCRIPTION:Monday (Live with Renee Walker):\nGround your energy and align with your higher self in real-time with Renee Walker. Start your week with clarity\, purpose\, and a calm\, focused mind. \nNot a member of the Spiritually Wired Membership yet? Join now!
URL:https://reneewalkerwellness.com/event/morning-energetics-3/2030-07-08/
LOCATION:Membership
CATEGORIES:Membership Event
ATTACH;FMTTYPE=image/jpeg:https://reneewalkerwellness.com/wp-content/uploads/2024/09/April24-33-1.jpg
END:VEVENT
BEGIN:VEVENT
DTSTART;TZID=America/Toronto:20300709T190000
DTEND;TZID=America/Toronto:20300709T200000
DTSTAMP:20260422T175625
CREATED:20240918T182206Z
LAST-MODIFIED:20260413T182529Z
UID:10005276-1909854000-1909857600@reneewalkerwellness.com
SUMMARY:‘Sacred Soul Hour’ Mindset Masterclass
DESCRIPTION:TUESDAYS LIVE AT 7 PM\n\n\n\nTransform your mindset with soul lessons and practices in energy alignment\, meditation\, EFT tapping\, NLP\, hypnotherapy\, and more.\n\nNot a member of the Spiritually Wired Membership yet? Join now!
URL:https://reneewalkerwellness.com/event/sacred-soul-hour-mindset-masterclass/2030-07-09/
LOCATION:Membership
CATEGORIES:Membership Event
ATTACH;FMTTYPE=image/jpeg:https://reneewalkerwellness.com/wp-content/uploads/2024/09/April24-33-1-2.jpg
END:VEVENT
BEGIN:VEVENT
DTSTART;TZID=America/Toronto:20300711T070000
DTEND;TZID=America/Toronto:20300711T073000
DTSTAMP:20260422T175625
CREATED:20250626T021255Z
LAST-MODIFIED:20260226T015525Z
UID:10005310-1909983600-1909985400@reneewalkerwellness.com
SUMMARY:Morning Energetics
DESCRIPTION:Thursday (Pre-recorded with Andrea Donnelly\, shown live at 7am):\nReceive energetic support and recalibration from Reiki Master Andrea Donnelly in this pre-recorded energy session\, streamed live each Thursday morning. Tune in to clear stagnant energy\, reconnect to your intuition\, and begin your day in energetic alignment. \nNot a member of the Spiritually Wired Membership yet? Join now!
URL:https://reneewalkerwellness.com/event/morning-energetics-4/2030-07-11/
LOCATION:Membership
CATEGORIES:Membership Event
ATTACH;FMTTYPE=image/jpeg:https://reneewalkerwellness.com/wp-content/uploads/2025/06/IMG_9003.jpg
END:VEVENT
BEGIN:VEVENT
DTSTART;TZID=America/Toronto:20300715T070000
DTEND;TZID=America/Toronto:20300715T073000
DTSTAMP:20260422T175625
CREATED:20250611T150249Z
LAST-MODIFIED:20260408T212503Z
UID:10005295-1910329200-1910331000@reneewalkerwellness.com
SUMMARY:Morning Energetics Live
DESCRIPTION:Monday (Live with Renee Walker):\nGround your energy and align with your higher self in real-time with Renee Walker. Start your week with clarity\, purpose\, and a calm\, focused mind. \nNot a member of the Spiritually Wired Membership yet? Join now!
URL:https://reneewalkerwellness.com/event/morning-energetics-3/2030-07-15/
LOCATION:Membership
CATEGORIES:Membership Event
ATTACH;FMTTYPE=image/jpeg:https://reneewalkerwellness.com/wp-content/uploads/2024/09/April24-33-1.jpg
END:VEVENT
BEGIN:VEVENT
DTSTART;TZID=America/Toronto:20300716T190000
DTEND;TZID=America/Toronto:20300716T200000
DTSTAMP:20260422T175625
CREATED:20240918T182206Z
LAST-MODIFIED:20260413T182529Z
UID:10005277-1910458800-1910462400@reneewalkerwellness.com
SUMMARY:‘Sacred Soul Hour’ Mindset Masterclass
DESCRIPTION:TUESDAYS LIVE AT 7 PM\n\n\n\nTransform your mindset with soul lessons and practices in energy alignment\, meditation\, EFT tapping\, NLP\, hypnotherapy\, and more.\n\nNot a member of the Spiritually Wired Membership yet? Join now!
URL:https://reneewalkerwellness.com/event/sacred-soul-hour-mindset-masterclass/2030-07-16/
LOCATION:Membership
CATEGORIES:Membership Event
ATTACH;FMTTYPE=image/jpeg:https://reneewalkerwellness.com/wp-content/uploads/2024/09/April24-33-1-2.jpg
END:VEVENT
BEGIN:VEVENT
DTSTART;TZID=America/Toronto:20300717T120000
DTEND;TZID=America/Toronto:20300717T130000
DTSTAMP:20260422T175625
CREATED:20240918T183626Z
LAST-MODIFIED:20260102T171223Z
UID:10005288-1910520000-1910523600@reneewalkerwellness.com
SUMMARY:Soul Coaching Hour
DESCRIPTION: LIVE AT 12 PM\n\n\n\nReceive live coaching directly from Renée during this hour dedicated to healing & growth.\n\n\nNot a member of the Spiritually Wired Membership yet? Join now!
URL:https://reneewalkerwellness.com/event/soul-coaching-hour/2030-07-17/
LOCATION:Membership
CATEGORIES:Membership Event
ATTACH;FMTTYPE=image/jpeg:https://reneewalkerwellness.com/wp-content/uploads/2024/09/April24-69.jpg
END:VEVENT
BEGIN:VEVENT
DTSTART;TZID=America/Toronto:20300718T070000
DTEND;TZID=America/Toronto:20300718T073000
DTSTAMP:20260422T175625
CREATED:20250626T021255Z
LAST-MODIFIED:20260226T015525Z
UID:10005311-1910588400-1910590200@reneewalkerwellness.com
SUMMARY:Morning Energetics
DESCRIPTION:Thursday (Pre-recorded with Andrea Donnelly\, shown live at 7am):\nReceive energetic support and recalibration from Reiki Master Andrea Donnelly in this pre-recorded energy session\, streamed live each Thursday morning. Tune in to clear stagnant energy\, reconnect to your intuition\, and begin your day in energetic alignment. \nNot a member of the Spiritually Wired Membership yet? Join now!
URL:https://reneewalkerwellness.com/event/morning-energetics-4/2030-07-18/
LOCATION:Membership
CATEGORIES:Membership Event
ATTACH;FMTTYPE=image/jpeg:https://reneewalkerwellness.com/wp-content/uploads/2025/06/IMG_9003.jpg
END:VEVENT
BEGIN:VEVENT
DTSTART;TZID=America/Toronto:20300722T070000
DTEND;TZID=America/Toronto:20300722T073000
DTSTAMP:20260422T175625
CREATED:20250611T150249Z
LAST-MODIFIED:20260408T212503Z
UID:10005296-1910934000-1910935800@reneewalkerwellness.com
SUMMARY:Morning Energetics Live
DESCRIPTION:Monday (Live with Renee Walker):\nGround your energy and align with your higher self in real-time with Renee Walker. Start your week with clarity\, purpose\, and a calm\, focused mind. \nNot a member of the Spiritually Wired Membership yet? Join now!
URL:https://reneewalkerwellness.com/event/morning-energetics-3/2030-07-22/
LOCATION:Membership
CATEGORIES:Membership Event
ATTACH;FMTTYPE=image/jpeg:https://reneewalkerwellness.com/wp-content/uploads/2024/09/April24-33-1.jpg
END:VEVENT
BEGIN:VEVENT
DTSTART;TZID=America/Toronto:20300723T190000
DTEND;TZID=America/Toronto:20300723T200000
DTSTAMP:20260422T175625
CREATED:20240918T182206Z
LAST-MODIFIED:20260413T182529Z
UID:10005278-1911063600-1911067200@reneewalkerwellness.com
SUMMARY:‘Sacred Soul Hour’ Mindset Masterclass
DESCRIPTION:TUESDAYS LIVE AT 7 PM\n\n\n\nTransform your mindset with soul lessons and practices in energy alignment\, meditation\, EFT tapping\, NLP\, hypnotherapy\, and more.\n\nNot a member of the Spiritually Wired Membership yet? Join now!
URL:https://reneewalkerwellness.com/event/sacred-soul-hour-mindset-masterclass/2030-07-23/
LOCATION:Membership
CATEGORIES:Membership Event
ATTACH;FMTTYPE=image/jpeg:https://reneewalkerwellness.com/wp-content/uploads/2024/09/April24-33-1-2.jpg
END:VEVENT
BEGIN:VEVENT
DTSTART;TZID=America/Toronto:20300725T070000
DTEND;TZID=America/Toronto:20300725T073000
DTSTAMP:20260422T175625
CREATED:20250626T021255Z
LAST-MODIFIED:20260226T015525Z
UID:10005312-1911193200-1911195000@reneewalkerwellness.com
SUMMARY:Morning Energetics
DESCRIPTION:Thursday (Pre-recorded with Andrea Donnelly\, shown live at 7am):\nReceive energetic support and recalibration from Reiki Master Andrea Donnelly in this pre-recorded energy session\, streamed live each Thursday morning. Tune in to clear stagnant energy\, reconnect to your intuition\, and begin your day in energetic alignment. \nNot a member of the Spiritually Wired Membership yet? Join now!
URL:https://reneewalkerwellness.com/event/morning-energetics-4/2030-07-25/
LOCATION:Membership
CATEGORIES:Membership Event
ATTACH;FMTTYPE=image/jpeg:https://reneewalkerwellness.com/wp-content/uploads/2025/06/IMG_9003.jpg
END:VEVENT
BEGIN:VEVENT
DTSTART;TZID=America/Toronto:20300729T070000
DTEND;TZID=America/Toronto:20300729T073000
DTSTAMP:20260422T175625
CREATED:20250611T150249Z
LAST-MODIFIED:20260408T212503Z
UID:10005297-1911538800-1911540600@reneewalkerwellness.com
SUMMARY:Morning Energetics Live
DESCRIPTION:Monday (Live with Renee Walker):\nGround your energy and align with your higher self in real-time with Renee Walker. Start your week with clarity\, purpose\, and a calm\, focused mind. \nNot a member of the Spiritually Wired Membership yet? Join now!
URL:https://reneewalkerwellness.com/event/morning-energetics-3/2030-07-29/
LOCATION:Membership
CATEGORIES:Membership Event
ATTACH;FMTTYPE=image/jpeg:https://reneewalkerwellness.com/wp-content/uploads/2024/09/April24-33-1.jpg
END:VEVENT
BEGIN:VEVENT
DTSTART;TZID=America/Toronto:20300730T190000
DTEND;TZID=America/Toronto:20300730T200000
DTSTAMP:20260422T175625
CREATED:20240918T182206Z
LAST-MODIFIED:20260413T182529Z
UID:10005279-1911668400-1911672000@reneewalkerwellness.com
SUMMARY:‘Sacred Soul Hour’ Mindset Masterclass
DESCRIPTION:TUESDAYS LIVE AT 7 PM\n\n\n\nTransform your mindset with soul lessons and practices in energy alignment\, meditation\, EFT tapping\, NLP\, hypnotherapy\, and more.\n\nNot a member of the Spiritually Wired Membership yet? Join now!
URL:https://reneewalkerwellness.com/event/sacred-soul-hour-mindset-masterclass/2030-07-30/
LOCATION:Membership
CATEGORIES:Membership Event
ATTACH;FMTTYPE=image/jpeg:https://reneewalkerwellness.com/wp-content/uploads/2024/09/April24-33-1-2.jpg
END:VEVENT
BEGIN:VEVENT
DTSTART;TZID=America/Toronto:20300801T070000
DTEND;TZID=America/Toronto:20300801T073000
DTSTAMP:20260422T175625
CREATED:20250626T021255Z
LAST-MODIFIED:20260226T015525Z
UID:10005313-1911798000-1911799800@reneewalkerwellness.com
SUMMARY:Morning Energetics
DESCRIPTION:Thursday (Pre-recorded with Andrea Donnelly\, shown live at 7am):\nReceive energetic support and recalibration from Reiki Master Andrea Donnelly in this pre-recorded energy session\, streamed live each Thursday morning. Tune in to clear stagnant energy\, reconnect to your intuition\, and begin your day in energetic alignment. \nNot a member of the Spiritually Wired Membership yet? Join now!
URL:https://reneewalkerwellness.com/event/morning-energetics-4/2030-08-01/
LOCATION:Membership
CATEGORIES:Membership Event
ATTACH;FMTTYPE=image/jpeg:https://reneewalkerwellness.com/wp-content/uploads/2025/06/IMG_9003.jpg
END:VEVENT
BEGIN:VEVENT
DTSTART;TZID=America/Toronto:20300805T070000
DTEND;TZID=America/Toronto:20300805T073000
DTSTAMP:20260422T175625
CREATED:20250611T150249Z
LAST-MODIFIED:20260408T212503Z
UID:10005298-1912143600-1912145400@reneewalkerwellness.com
SUMMARY:Morning Energetics Live
DESCRIPTION:Monday (Live with Renee Walker):\nGround your energy and align with your higher self in real-time with Renee Walker. Start your week with clarity\, purpose\, and a calm\, focused mind. \nNot a member of the Spiritually Wired Membership yet? Join now!
URL:https://reneewalkerwellness.com/event/morning-energetics-3/2030-08-05/
LOCATION:Membership
CATEGORIES:Membership Event
ATTACH;FMTTYPE=image/jpeg:https://reneewalkerwellness.com/wp-content/uploads/2024/09/April24-33-1.jpg
END:VEVENT
BEGIN:VEVENT
DTSTART;TZID=America/Toronto:20300806T190000
DTEND;TZID=America/Toronto:20300806T200000
DTSTAMP:20260422T175625
CREATED:20240920T144000Z
LAST-MODIFIED:20260410T164520Z
UID:10005286-1912273200-1912276800@reneewalkerwellness.com
SUMMARY:Sacred Soul Hour: Monthly Intention Call
DESCRIPTION:FIRST TUESDAY OF THE MONTH 7PM\n\n\n\nReflect and set intentions for the month ahead\, keeping you focused on what truly matters.\n\n\nNot a member of the Spiritually Wired Membership yet? Join now!
URL:https://reneewalkerwellness.com/event/sacred-soul-hour-monthly-intention-call/2030-08-06/
LOCATION:Membership
CATEGORIES:Membership Event
ATTACH;FMTTYPE=image/jpeg:https://reneewalkerwellness.com/wp-content/uploads/2024/01/photomeinoffice.jpg
END:VEVENT
BEGIN:VEVENT
DTSTART;TZID=America/Toronto:20300808T070000
DTEND;TZID=America/Toronto:20300808T073000
DTSTAMP:20260422T175625
CREATED:20250626T021255Z
LAST-MODIFIED:20260226T015525Z
UID:10005314-1912402800-1912404600@reneewalkerwellness.com
SUMMARY:Morning Energetics
DESCRIPTION:Thursday (Pre-recorded with Andrea Donnelly\, shown live at 7am):\nReceive energetic support and recalibration from Reiki Master Andrea Donnelly in this pre-recorded energy session\, streamed live each Thursday morning. Tune in to clear stagnant energy\, reconnect to your intuition\, and begin your day in energetic alignment. \nNot a member of the Spiritually Wired Membership yet? Join now!
URL:https://reneewalkerwellness.com/event/morning-energetics-4/2030-08-08/
LOCATION:Membership
CATEGORIES:Membership Event
ATTACH;FMTTYPE=image/jpeg:https://reneewalkerwellness.com/wp-content/uploads/2025/06/IMG_9003.jpg
END:VEVENT
BEGIN:VEVENT
DTSTART;TZID=America/Toronto:20300812T070000
DTEND;TZID=America/Toronto:20300812T073000
DTSTAMP:20260422T175625
CREATED:20250611T150249Z
LAST-MODIFIED:20260408T212503Z
UID:10005299-1912748400-1912750200@reneewalkerwellness.com
SUMMARY:Morning Energetics Live
DESCRIPTION:Monday (Live with Renee Walker):\nGround your energy and align with your higher self in real-time with Renee Walker. Start your week with clarity\, purpose\, and a calm\, focused mind. \nNot a member of the Spiritually Wired Membership yet? Join now!
URL:https://reneewalkerwellness.com/event/morning-energetics-3/2030-08-12/
LOCATION:Membership
CATEGORIES:Membership Event
ATTACH;FMTTYPE=image/jpeg:https://reneewalkerwellness.com/wp-content/uploads/2024/09/April24-33-1.jpg
END:VEVENT
BEGIN:VEVENT
DTSTART;TZID=America/Toronto:20300813T190000
DTEND;TZID=America/Toronto:20300813T200000
DTSTAMP:20260422T175625
CREATED:20240918T182206Z
LAST-MODIFIED:20260413T182529Z
UID:10005280-1912878000-1912881600@reneewalkerwellness.com
SUMMARY:‘Sacred Soul Hour’ Mindset Masterclass
DESCRIPTION:TUESDAYS LIVE AT 7 PM\n\n\n\nTransform your mindset with soul lessons and practices in energy alignment\, meditation\, EFT tapping\, NLP\, hypnotherapy\, and more.\n\nNot a member of the Spiritually Wired Membership yet? Join now!
URL:https://reneewalkerwellness.com/event/sacred-soul-hour-mindset-masterclass/2030-08-13/
LOCATION:Membership
CATEGORIES:Membership Event
ATTACH;FMTTYPE=image/jpeg:https://reneewalkerwellness.com/wp-content/uploads/2024/09/April24-33-1-2.jpg
END:VEVENT
BEGIN:VEVENT
DTSTART;TZID=America/Toronto:20300815T070000
DTEND;TZID=America/Toronto:20300815T073000
DTSTAMP:20260422T175625
CREATED:20250626T021255Z
LAST-MODIFIED:20260226T015525Z
UID:10005315-1913007600-1913009400@reneewalkerwellness.com
SUMMARY:Morning Energetics
DESCRIPTION:Thursday (Pre-recorded with Andrea Donnelly\, shown live at 7am):\nReceive energetic support and recalibration from Reiki Master Andrea Donnelly in this pre-recorded energy session\, streamed live each Thursday morning. Tune in to clear stagnant energy\, reconnect to your intuition\, and begin your day in energetic alignment. \nNot a member of the Spiritually Wired Membership yet? Join now!
URL:https://reneewalkerwellness.com/event/morning-energetics-4/2030-08-15/
LOCATION:Membership
CATEGORIES:Membership Event
ATTACH;FMTTYPE=image/jpeg:https://reneewalkerwellness.com/wp-content/uploads/2025/06/IMG_9003.jpg
END:VEVENT
BEGIN:VEVENT
DTSTART;TZID=America/Toronto:20300819T070000
DTEND;TZID=America/Toronto:20300819T073000
DTSTAMP:20260422T175625
CREATED:20250611T150249Z
LAST-MODIFIED:20260408T212503Z
UID:10005300-1913353200-1913355000@reneewalkerwellness.com
SUMMARY:Morning Energetics Live
DESCRIPTION:Monday (Live with Renee Walker):\nGround your energy and align with your higher self in real-time with Renee Walker. Start your week with clarity\, purpose\, and a calm\, focused mind. \nNot a member of the Spiritually Wired Membership yet? Join now!
URL:https://reneewalkerwellness.com/event/morning-energetics-3/2030-08-19/
LOCATION:Membership
CATEGORIES:Membership Event
ATTACH;FMTTYPE=image/jpeg:https://reneewalkerwellness.com/wp-content/uploads/2024/09/April24-33-1.jpg
END:VEVENT
END:VCALENDAR