BEGIN:VCALENDAR
VERSION:2.0
PRODID:-//Renee Walker Wellness - ECPv6.15.20//NONSGML v1.0//EN
CALSCALE:GREGORIAN
METHOD:PUBLISH
X-ORIGINAL-URL:https://reneewalkerwellness.com
X-WR-CALDESC:Events for Renee Walker Wellness
REFRESH-INTERVAL;VALUE=DURATION:PT1H
X-Robots-Tag:noindex
X-PUBLISHED-TTL:PT1H
BEGIN:VTIMEZONE
TZID:America/Toronto
BEGIN:DAYLIGHT
TZOFFSETFROM:-0500
TZOFFSETTO:-0400
TZNAME:EDT
DTSTART:20290311T070000
END:DAYLIGHT
BEGIN:STANDARD
TZOFFSETFROM:-0400
TZOFFSETTO:-0500
TZNAME:EST
DTSTART:20291104T060000
END:STANDARD
BEGIN:DAYLIGHT
TZOFFSETFROM:-0500
TZOFFSETTO:-0400
TZNAME:EDT
DTSTART:20300310T070000
END:DAYLIGHT
BEGIN:STANDARD
TZOFFSETFROM:-0400
TZOFFSETTO:-0500
TZNAME:EST
DTSTART:20301103T060000
END:STANDARD
BEGIN:DAYLIGHT
TZOFFSETFROM:-0500
TZOFFSETTO:-0400
TZNAME:EDT
DTSTART:20310309T070000
END:DAYLIGHT
BEGIN:STANDARD
TZOFFSETFROM:-0400
TZOFFSETTO:-0500
TZNAME:EST
DTSTART:20311102T060000
END:STANDARD
END:VTIMEZONE
BEGIN:VEVENT
DTSTART;TZID=America/Toronto:20300304T070000
DTEND;TZID=America/Toronto:20300304T073000
DTSTAMP:20260422T175222
CREATED:20250611T150249Z
LAST-MODIFIED:20260408T212503Z
UID:10004699-1898838000-1898839800@reneewalkerwellness.com
SUMMARY:Morning Energetics Live
DESCRIPTION:Monday (Live with Renee Walker):\nGround your energy and align with your higher self in real-time with Renee Walker. Start your week with clarity\, purpose\, and a calm\, focused mind. \nNot a member of the Spiritually Wired Membership yet? Join now!
URL:https://reneewalkerwellness.com/event/morning-energetics-3/2030-03-04/
LOCATION:Membership
CATEGORIES:Membership Event
ATTACH;FMTTYPE=image/jpeg:https://reneewalkerwellness.com/wp-content/uploads/2024/09/April24-33-1.jpg
END:VEVENT
BEGIN:VEVENT
DTSTART;TZID=America/Toronto:20300305T190000
DTEND;TZID=America/Toronto:20300305T200000
DTSTAMP:20260422T175222
CREATED:20240920T144000Z
LAST-MODIFIED:20260410T164520Z
UID:10004716-1898967600-1898971200@reneewalkerwellness.com
SUMMARY:Sacred Soul Hour: Monthly Intention Call
DESCRIPTION:FIRST TUESDAY OF THE MONTH 7PM\n\n\n\nReflect and set intentions for the month ahead\, keeping you focused on what truly matters.\n\n\nNot a member of the Spiritually Wired Membership yet? Join now!
URL:https://reneewalkerwellness.com/event/sacred-soul-hour-monthly-intention-call/2030-03-05/
LOCATION:Membership
CATEGORIES:Membership Event
ATTACH;FMTTYPE=image/jpeg:https://reneewalkerwellness.com/wp-content/uploads/2024/01/photomeinoffice.jpg
END:VEVENT
BEGIN:VEVENT
DTSTART;TZID=America/Toronto:20300307T070000
DTEND;TZID=America/Toronto:20300307T073000
DTSTAMP:20260422T175222
CREATED:20250626T021255Z
LAST-MODIFIED:20260226T015525Z
UID:10005255-1899097200-1899099000@reneewalkerwellness.com
SUMMARY:Morning Energetics
DESCRIPTION:Thursday (Pre-recorded with Andrea Donnelly\, shown live at 7am):\nReceive energetic support and recalibration from Reiki Master Andrea Donnelly in this pre-recorded energy session\, streamed live each Thursday morning. Tune in to clear stagnant energy\, reconnect to your intuition\, and begin your day in energetic alignment. \nNot a member of the Spiritually Wired Membership yet? Join now!
URL:https://reneewalkerwellness.com/event/morning-energetics-4/2030-03-07/
LOCATION:Membership
CATEGORIES:Membership Event
ATTACH;FMTTYPE=image/jpeg:https://reneewalkerwellness.com/wp-content/uploads/2025/06/IMG_9003.jpg
END:VEVENT
BEGIN:VEVENT
DTSTART;TZID=America/Toronto:20300311T070000
DTEND;TZID=America/Toronto:20300311T073000
DTSTAMP:20260422T175222
CREATED:20250611T150249Z
LAST-MODIFIED:20260408T212503Z
UID:10004700-1899442800-1899444600@reneewalkerwellness.com
SUMMARY:Morning Energetics Live
DESCRIPTION:Monday (Live with Renee Walker):\nGround your energy and align with your higher self in real-time with Renee Walker. Start your week with clarity\, purpose\, and a calm\, focused mind. \nNot a member of the Spiritually Wired Membership yet? Join now!
URL:https://reneewalkerwellness.com/event/morning-energetics-3/2030-03-11/
LOCATION:Membership
CATEGORIES:Membership Event
ATTACH;FMTTYPE=image/jpeg:https://reneewalkerwellness.com/wp-content/uploads/2024/09/April24-33-1.jpg
END:VEVENT
BEGIN:VEVENT
DTSTART;TZID=America/Toronto:20300312T190000
DTEND;TZID=America/Toronto:20300312T200000
DTSTAMP:20260422T175222
CREATED:20240918T182206Z
LAST-MODIFIED:20260413T182529Z
UID:10004730-1899572400-1899576000@reneewalkerwellness.com
SUMMARY:‘Sacred Soul Hour’ Mindset Masterclass
DESCRIPTION:TUESDAYS LIVE AT 7 PM\n\n\n\nTransform your mindset with soul lessons and practices in energy alignment\, meditation\, EFT tapping\, NLP\, hypnotherapy\, and more.\n\nNot a member of the Spiritually Wired Membership yet? Join now!
URL:https://reneewalkerwellness.com/event/sacred-soul-hour-mindset-masterclass/2030-03-12/
LOCATION:Membership
CATEGORIES:Membership Event
ATTACH;FMTTYPE=image/jpeg:https://reneewalkerwellness.com/wp-content/uploads/2024/09/April24-33-1-2.jpg
END:VEVENT
BEGIN:VEVENT
DTSTART;TZID=America/Toronto:20300314T070000
DTEND;TZID=America/Toronto:20300314T073000
DTSTAMP:20260422T175222
CREATED:20250626T021255Z
LAST-MODIFIED:20260226T015525Z
UID:10005256-1899702000-1899703800@reneewalkerwellness.com
SUMMARY:Morning Energetics
DESCRIPTION:Thursday (Pre-recorded with Andrea Donnelly\, shown live at 7am):\nReceive energetic support and recalibration from Reiki Master Andrea Donnelly in this pre-recorded energy session\, streamed live each Thursday morning. Tune in to clear stagnant energy\, reconnect to your intuition\, and begin your day in energetic alignment. \nNot a member of the Spiritually Wired Membership yet? Join now!
URL:https://reneewalkerwellness.com/event/morning-energetics-4/2030-03-14/
LOCATION:Membership
CATEGORIES:Membership Event
ATTACH;FMTTYPE=image/jpeg:https://reneewalkerwellness.com/wp-content/uploads/2025/06/IMG_9003.jpg
END:VEVENT
BEGIN:VEVENT
DTSTART;TZID=America/Toronto:20300318T070000
DTEND;TZID=America/Toronto:20300318T073000
DTSTAMP:20260422T175222
CREATED:20250611T150249Z
LAST-MODIFIED:20260408T212503Z
UID:10004701-1900047600-1900049400@reneewalkerwellness.com
SUMMARY:Morning Energetics Live
DESCRIPTION:Monday (Live with Renee Walker):\nGround your energy and align with your higher self in real-time with Renee Walker. Start your week with clarity\, purpose\, and a calm\, focused mind. \nNot a member of the Spiritually Wired Membership yet? Join now!
URL:https://reneewalkerwellness.com/event/morning-energetics-3/2030-03-18/
LOCATION:Membership
CATEGORIES:Membership Event
ATTACH;FMTTYPE=image/jpeg:https://reneewalkerwellness.com/wp-content/uploads/2024/09/April24-33-1.jpg
END:VEVENT
BEGIN:VEVENT
DTSTART;TZID=America/Toronto:20300319T190000
DTEND;TZID=America/Toronto:20300319T200000
DTSTAMP:20260422T175222
CREATED:20240918T182206Z
LAST-MODIFIED:20260413T182529Z
UID:10004731-1900177200-1900180800@reneewalkerwellness.com
SUMMARY:‘Sacred Soul Hour’ Mindset Masterclass
DESCRIPTION:TUESDAYS LIVE AT 7 PM\n\n\n\nTransform your mindset with soul lessons and practices in energy alignment\, meditation\, EFT tapping\, NLP\, hypnotherapy\, and more.\n\nNot a member of the Spiritually Wired Membership yet? Join now!
URL:https://reneewalkerwellness.com/event/sacred-soul-hour-mindset-masterclass/2030-03-19/
LOCATION:Membership
CATEGORIES:Membership Event
ATTACH;FMTTYPE=image/jpeg:https://reneewalkerwellness.com/wp-content/uploads/2024/09/April24-33-1-2.jpg
END:VEVENT
BEGIN:VEVENT
DTSTART;TZID=America/Toronto:20300320T120000
DTEND;TZID=America/Toronto:20300320T130000
DTSTAMP:20260422T175222
CREATED:20240918T183626Z
LAST-MODIFIED:20260102T171223Z
UID:10004454-1900238400-1900242000@reneewalkerwellness.com
SUMMARY:Soul Coaching Hour
DESCRIPTION: LIVE AT 12 PM\n\n\n\nReceive live coaching directly from Renée during this hour dedicated to healing & growth.\n\n\nNot a member of the Spiritually Wired Membership yet? Join now!
URL:https://reneewalkerwellness.com/event/soul-coaching-hour/2030-03-20/
LOCATION:Membership
CATEGORIES:Membership Event
ATTACH;FMTTYPE=image/jpeg:https://reneewalkerwellness.com/wp-content/uploads/2024/09/April24-69.jpg
END:VEVENT
BEGIN:VEVENT
DTSTART;TZID=America/Toronto:20300321T070000
DTEND;TZID=America/Toronto:20300321T073000
DTSTAMP:20260422T175222
CREATED:20250626T021255Z
LAST-MODIFIED:20260226T015525Z
UID:10005257-1900306800-1900308600@reneewalkerwellness.com
SUMMARY:Morning Energetics
DESCRIPTION:Thursday (Pre-recorded with Andrea Donnelly\, shown live at 7am):\nReceive energetic support and recalibration from Reiki Master Andrea Donnelly in this pre-recorded energy session\, streamed live each Thursday morning. Tune in to clear stagnant energy\, reconnect to your intuition\, and begin your day in energetic alignment. \nNot a member of the Spiritually Wired Membership yet? Join now!
URL:https://reneewalkerwellness.com/event/morning-energetics-4/2030-03-21/
LOCATION:Membership
CATEGORIES:Membership Event
ATTACH;FMTTYPE=image/jpeg:https://reneewalkerwellness.com/wp-content/uploads/2025/06/IMG_9003.jpg
END:VEVENT
BEGIN:VEVENT
DTSTART;TZID=America/Toronto:20300325T070000
DTEND;TZID=America/Toronto:20300325T073000
DTSTAMP:20260422T175222
CREATED:20250611T150249Z
LAST-MODIFIED:20260408T212503Z
UID:10004702-1900652400-1900654200@reneewalkerwellness.com
SUMMARY:Morning Energetics Live
DESCRIPTION:Monday (Live with Renee Walker):\nGround your energy and align with your higher self in real-time with Renee Walker. Start your week with clarity\, purpose\, and a calm\, focused mind. \nNot a member of the Spiritually Wired Membership yet? Join now!
URL:https://reneewalkerwellness.com/event/morning-energetics-3/2030-03-25/
LOCATION:Membership
CATEGORIES:Membership Event
ATTACH;FMTTYPE=image/jpeg:https://reneewalkerwellness.com/wp-content/uploads/2024/09/April24-33-1.jpg
END:VEVENT
BEGIN:VEVENT
DTSTART;TZID=America/Toronto:20300326T190000
DTEND;TZID=America/Toronto:20300326T200000
DTSTAMP:20260422T175222
CREATED:20240918T182206Z
LAST-MODIFIED:20260413T182529Z
UID:10004732-1900782000-1900785600@reneewalkerwellness.com
SUMMARY:‘Sacred Soul Hour’ Mindset Masterclass
DESCRIPTION:TUESDAYS LIVE AT 7 PM\n\n\n\nTransform your mindset with soul lessons and practices in energy alignment\, meditation\, EFT tapping\, NLP\, hypnotherapy\, and more.\n\nNot a member of the Spiritually Wired Membership yet? Join now!
URL:https://reneewalkerwellness.com/event/sacred-soul-hour-mindset-masterclass/2030-03-26/
LOCATION:Membership
CATEGORIES:Membership Event
ATTACH;FMTTYPE=image/jpeg:https://reneewalkerwellness.com/wp-content/uploads/2024/09/April24-33-1-2.jpg
END:VEVENT
BEGIN:VEVENT
DTSTART;TZID=America/Toronto:20300328T070000
DTEND;TZID=America/Toronto:20300328T073000
DTSTAMP:20260422T175222
CREATED:20250626T021255Z
LAST-MODIFIED:20260226T015525Z
UID:10005258-1900911600-1900913400@reneewalkerwellness.com
SUMMARY:Morning Energetics
DESCRIPTION:Thursday (Pre-recorded with Andrea Donnelly\, shown live at 7am):\nReceive energetic support and recalibration from Reiki Master Andrea Donnelly in this pre-recorded energy session\, streamed live each Thursday morning. Tune in to clear stagnant energy\, reconnect to your intuition\, and begin your day in energetic alignment. \nNot a member of the Spiritually Wired Membership yet? Join now!
URL:https://reneewalkerwellness.com/event/morning-energetics-4/2030-03-28/
LOCATION:Membership
CATEGORIES:Membership Event
ATTACH;FMTTYPE=image/jpeg:https://reneewalkerwellness.com/wp-content/uploads/2025/06/IMG_9003.jpg
END:VEVENT
BEGIN:VEVENT
DTSTART;TZID=America/Toronto:20300401T070000
DTEND;TZID=America/Toronto:20300401T073000
DTSTAMP:20260422T175222
CREATED:20250611T150249Z
LAST-MODIFIED:20260408T212503Z
UID:10004703-1901257200-1901259000@reneewalkerwellness.com
SUMMARY:Morning Energetics Live
DESCRIPTION:Monday (Live with Renee Walker):\nGround your energy and align with your higher self in real-time with Renee Walker. Start your week with clarity\, purpose\, and a calm\, focused mind. \nNot a member of the Spiritually Wired Membership yet? Join now!
URL:https://reneewalkerwellness.com/event/morning-energetics-3/2030-04-01/
LOCATION:Membership
CATEGORIES:Membership Event
ATTACH;FMTTYPE=image/jpeg:https://reneewalkerwellness.com/wp-content/uploads/2024/09/April24-33-1.jpg
END:VEVENT
BEGIN:VEVENT
DTSTART;TZID=America/Toronto:20300402T190000
DTEND;TZID=America/Toronto:20300402T200000
DTSTAMP:20260422T175222
CREATED:20240920T144000Z
LAST-MODIFIED:20260410T164520Z
UID:10004717-1901386800-1901390400@reneewalkerwellness.com
SUMMARY:Sacred Soul Hour: Monthly Intention Call
DESCRIPTION:FIRST TUESDAY OF THE MONTH 7PM\n\n\n\nReflect and set intentions for the month ahead\, keeping you focused on what truly matters.\n\n\nNot a member of the Spiritually Wired Membership yet? Join now!
URL:https://reneewalkerwellness.com/event/sacred-soul-hour-monthly-intention-call/2030-04-02/
LOCATION:Membership
CATEGORIES:Membership Event
ATTACH;FMTTYPE=image/jpeg:https://reneewalkerwellness.com/wp-content/uploads/2024/01/photomeinoffice.jpg
END:VEVENT
BEGIN:VEVENT
DTSTART;TZID=America/Toronto:20300404T070000
DTEND;TZID=America/Toronto:20300404T073000
DTSTAMP:20260422T175222
CREATED:20250626T021255Z
LAST-MODIFIED:20260226T015525Z
UID:10005259-1901516400-1901518200@reneewalkerwellness.com
SUMMARY:Morning Energetics
DESCRIPTION:Thursday (Pre-recorded with Andrea Donnelly\, shown live at 7am):\nReceive energetic support and recalibration from Reiki Master Andrea Donnelly in this pre-recorded energy session\, streamed live each Thursday morning. Tune in to clear stagnant energy\, reconnect to your intuition\, and begin your day in energetic alignment. \nNot a member of the Spiritually Wired Membership yet? Join now!
URL:https://reneewalkerwellness.com/event/morning-energetics-4/2030-04-04/
LOCATION:Membership
CATEGORIES:Membership Event
ATTACH;FMTTYPE=image/jpeg:https://reneewalkerwellness.com/wp-content/uploads/2025/06/IMG_9003.jpg
END:VEVENT
BEGIN:VEVENT
DTSTART;TZID=America/Toronto:20300408T070000
DTEND;TZID=America/Toronto:20300408T073000
DTSTAMP:20260422T175222
CREATED:20250611T150249Z
LAST-MODIFIED:20260408T212503Z
UID:10004704-1901862000-1901863800@reneewalkerwellness.com
SUMMARY:Morning Energetics Live
DESCRIPTION:Monday (Live with Renee Walker):\nGround your energy and align with your higher self in real-time with Renee Walker. Start your week with clarity\, purpose\, and a calm\, focused mind. \nNot a member of the Spiritually Wired Membership yet? Join now!
URL:https://reneewalkerwellness.com/event/morning-energetics-3/2030-04-08/
LOCATION:Membership
CATEGORIES:Membership Event
ATTACH;FMTTYPE=image/jpeg:https://reneewalkerwellness.com/wp-content/uploads/2024/09/April24-33-1.jpg
END:VEVENT
BEGIN:VEVENT
DTSTART;TZID=America/Toronto:20300409T190000
DTEND;TZID=America/Toronto:20300409T200000
DTSTAMP:20260422T175222
CREATED:20240918T182206Z
LAST-MODIFIED:20260413T182529Z
UID:10004733-1901991600-1901995200@reneewalkerwellness.com
SUMMARY:‘Sacred Soul Hour’ Mindset Masterclass
DESCRIPTION:TUESDAYS LIVE AT 7 PM\n\n\n\nTransform your mindset with soul lessons and practices in energy alignment\, meditation\, EFT tapping\, NLP\, hypnotherapy\, and more.\n\nNot a member of the Spiritually Wired Membership yet? Join now!
URL:https://reneewalkerwellness.com/event/sacred-soul-hour-mindset-masterclass/2030-04-09/
LOCATION:Membership
CATEGORIES:Membership Event
ATTACH;FMTTYPE=image/jpeg:https://reneewalkerwellness.com/wp-content/uploads/2024/09/April24-33-1-2.jpg
END:VEVENT
BEGIN:VEVENT
DTSTART;TZID=America/Toronto:20300411T070000
DTEND;TZID=America/Toronto:20300411T073000
DTSTAMP:20260422T175222
CREATED:20250626T021255Z
LAST-MODIFIED:20260226T015525Z
UID:10005260-1902121200-1902123000@reneewalkerwellness.com
SUMMARY:Morning Energetics
DESCRIPTION:Thursday (Pre-recorded with Andrea Donnelly\, shown live at 7am):\nReceive energetic support and recalibration from Reiki Master Andrea Donnelly in this pre-recorded energy session\, streamed live each Thursday morning. Tune in to clear stagnant energy\, reconnect to your intuition\, and begin your day in energetic alignment. \nNot a member of the Spiritually Wired Membership yet? Join now!
URL:https://reneewalkerwellness.com/event/morning-energetics-4/2030-04-11/
LOCATION:Membership
CATEGORIES:Membership Event
ATTACH;FMTTYPE=image/jpeg:https://reneewalkerwellness.com/wp-content/uploads/2025/06/IMG_9003.jpg
END:VEVENT
BEGIN:VEVENT
DTSTART;TZID=America/Toronto:20300415T070000
DTEND;TZID=America/Toronto:20300415T073000
DTSTAMP:20260422T175222
CREATED:20250611T150249Z
LAST-MODIFIED:20260408T212503Z
UID:10004705-1902466800-1902468600@reneewalkerwellness.com
SUMMARY:Morning Energetics Live
DESCRIPTION:Monday (Live with Renee Walker):\nGround your energy and align with your higher self in real-time with Renee Walker. Start your week with clarity\, purpose\, and a calm\, focused mind. \nNot a member of the Spiritually Wired Membership yet? Join now!
URL:https://reneewalkerwellness.com/event/morning-energetics-3/2030-04-15/
LOCATION:Membership
CATEGORIES:Membership Event
ATTACH;FMTTYPE=image/jpeg:https://reneewalkerwellness.com/wp-content/uploads/2024/09/April24-33-1.jpg
END:VEVENT
BEGIN:VEVENT
DTSTART;TZID=America/Toronto:20300416T190000
DTEND;TZID=America/Toronto:20300416T200000
DTSTAMP:20260422T175222
CREATED:20240918T182206Z
LAST-MODIFIED:20260413T182529Z
UID:10004734-1902596400-1902600000@reneewalkerwellness.com
SUMMARY:‘Sacred Soul Hour’ Mindset Masterclass
DESCRIPTION:TUESDAYS LIVE AT 7 PM\n\n\n\nTransform your mindset with soul lessons and practices in energy alignment\, meditation\, EFT tapping\, NLP\, hypnotherapy\, and more.\n\nNot a member of the Spiritually Wired Membership yet? Join now!
URL:https://reneewalkerwellness.com/event/sacred-soul-hour-mindset-masterclass/2030-04-16/
LOCATION:Membership
CATEGORIES:Membership Event
ATTACH;FMTTYPE=image/jpeg:https://reneewalkerwellness.com/wp-content/uploads/2024/09/April24-33-1-2.jpg
END:VEVENT
BEGIN:VEVENT
DTSTART;TZID=America/Toronto:20300417T120000
DTEND;TZID=America/Toronto:20300417T130000
DTSTAMP:20260422T175222
CREATED:20240918T183626Z
LAST-MODIFIED:20260102T171223Z
UID:10004455-1902657600-1902661200@reneewalkerwellness.com
SUMMARY:Soul Coaching Hour
DESCRIPTION: LIVE AT 12 PM\n\n\n\nReceive live coaching directly from Renée during this hour dedicated to healing & growth.\n\n\nNot a member of the Spiritually Wired Membership yet? Join now!
URL:https://reneewalkerwellness.com/event/soul-coaching-hour/2030-04-17/
LOCATION:Membership
CATEGORIES:Membership Event
ATTACH;FMTTYPE=image/jpeg:https://reneewalkerwellness.com/wp-content/uploads/2024/09/April24-69.jpg
END:VEVENT
BEGIN:VEVENT
DTSTART;TZID=America/Toronto:20300418T070000
DTEND;TZID=America/Toronto:20300418T073000
DTSTAMP:20260422T175222
CREATED:20250626T021255Z
LAST-MODIFIED:20260226T015525Z
UID:10005261-1902726000-1902727800@reneewalkerwellness.com
SUMMARY:Morning Energetics
DESCRIPTION:Thursday (Pre-recorded with Andrea Donnelly\, shown live at 7am):\nReceive energetic support and recalibration from Reiki Master Andrea Donnelly in this pre-recorded energy session\, streamed live each Thursday morning. Tune in to clear stagnant energy\, reconnect to your intuition\, and begin your day in energetic alignment. \nNot a member of the Spiritually Wired Membership yet? Join now!
URL:https://reneewalkerwellness.com/event/morning-energetics-4/2030-04-18/
LOCATION:Membership
CATEGORIES:Membership Event
ATTACH;FMTTYPE=image/jpeg:https://reneewalkerwellness.com/wp-content/uploads/2025/06/IMG_9003.jpg
END:VEVENT
BEGIN:VEVENT
DTSTART;TZID=America/Toronto:20300422T070000
DTEND;TZID=America/Toronto:20300422T073000
DTSTAMP:20260422T175222
CREATED:20250611T150249Z
LAST-MODIFIED:20260408T212503Z
UID:10004706-1903071600-1903073400@reneewalkerwellness.com
SUMMARY:Morning Energetics Live
DESCRIPTION:Monday (Live with Renee Walker):\nGround your energy and align with your higher self in real-time with Renee Walker. Start your week with clarity\, purpose\, and a calm\, focused mind. \nNot a member of the Spiritually Wired Membership yet? Join now!
URL:https://reneewalkerwellness.com/event/morning-energetics-3/2030-04-22/
LOCATION:Membership
CATEGORIES:Membership Event
ATTACH;FMTTYPE=image/jpeg:https://reneewalkerwellness.com/wp-content/uploads/2024/09/April24-33-1.jpg
END:VEVENT
BEGIN:VEVENT
DTSTART;TZID=America/Toronto:20300423T190000
DTEND;TZID=America/Toronto:20300423T200000
DTSTAMP:20260422T175222
CREATED:20240918T182206Z
LAST-MODIFIED:20260413T182529Z
UID:10004735-1903201200-1903204800@reneewalkerwellness.com
SUMMARY:‘Sacred Soul Hour’ Mindset Masterclass
DESCRIPTION:TUESDAYS LIVE AT 7 PM\n\n\n\nTransform your mindset with soul lessons and practices in energy alignment\, meditation\, EFT tapping\, NLP\, hypnotherapy\, and more.\n\nNot a member of the Spiritually Wired Membership yet? Join now!
URL:https://reneewalkerwellness.com/event/sacred-soul-hour-mindset-masterclass/2030-04-23/
LOCATION:Membership
CATEGORIES:Membership Event
ATTACH;FMTTYPE=image/jpeg:https://reneewalkerwellness.com/wp-content/uploads/2024/09/April24-33-1-2.jpg
END:VEVENT
BEGIN:VEVENT
DTSTART;TZID=America/Toronto:20300425T070000
DTEND;TZID=America/Toronto:20300425T073000
DTSTAMP:20260422T175222
CREATED:20250626T021255Z
LAST-MODIFIED:20260226T015525Z
UID:10005262-1903330800-1903332600@reneewalkerwellness.com
SUMMARY:Morning Energetics
DESCRIPTION:Thursday (Pre-recorded with Andrea Donnelly\, shown live at 7am):\nReceive energetic support and recalibration from Reiki Master Andrea Donnelly in this pre-recorded energy session\, streamed live each Thursday morning. Tune in to clear stagnant energy\, reconnect to your intuition\, and begin your day in energetic alignment. \nNot a member of the Spiritually Wired Membership yet? Join now!
URL:https://reneewalkerwellness.com/event/morning-energetics-4/2030-04-25/
LOCATION:Membership
CATEGORIES:Membership Event
ATTACH;FMTTYPE=image/jpeg:https://reneewalkerwellness.com/wp-content/uploads/2025/06/IMG_9003.jpg
END:VEVENT
BEGIN:VEVENT
DTSTART;TZID=America/Toronto:20300429T070000
DTEND;TZID=America/Toronto:20300429T073000
DTSTAMP:20260422T175222
CREATED:20250611T150249Z
LAST-MODIFIED:20260408T212503Z
UID:10004707-1903676400-1903678200@reneewalkerwellness.com
SUMMARY:Morning Energetics Live
DESCRIPTION:Monday (Live with Renee Walker):\nGround your energy and align with your higher self in real-time with Renee Walker. Start your week with clarity\, purpose\, and a calm\, focused mind. \nNot a member of the Spiritually Wired Membership yet? Join now!
URL:https://reneewalkerwellness.com/event/morning-energetics-3/2030-04-29/
LOCATION:Membership
CATEGORIES:Membership Event
ATTACH;FMTTYPE=image/jpeg:https://reneewalkerwellness.com/wp-content/uploads/2024/09/April24-33-1.jpg
END:VEVENT
BEGIN:VEVENT
DTSTART;TZID=America/Toronto:20300430T190000
DTEND;TZID=America/Toronto:20300430T200000
DTSTAMP:20260422T175222
CREATED:20240918T182206Z
LAST-MODIFIED:20260413T182529Z
UID:10004736-1903806000-1903809600@reneewalkerwellness.com
SUMMARY:‘Sacred Soul Hour’ Mindset Masterclass
DESCRIPTION:TUESDAYS LIVE AT 7 PM\n\n\n\nTransform your mindset with soul lessons and practices in energy alignment\, meditation\, EFT tapping\, NLP\, hypnotherapy\, and more.\n\nNot a member of the Spiritually Wired Membership yet? Join now!
URL:https://reneewalkerwellness.com/event/sacred-soul-hour-mindset-masterclass/2030-04-30/
LOCATION:Membership
CATEGORIES:Membership Event
ATTACH;FMTTYPE=image/jpeg:https://reneewalkerwellness.com/wp-content/uploads/2024/09/April24-33-1-2.jpg
END:VEVENT
BEGIN:VEVENT
DTSTART;TZID=America/Toronto:20300502T070000
DTEND;TZID=America/Toronto:20300502T073000
DTSTAMP:20260422T175222
CREATED:20250626T021255Z
LAST-MODIFIED:20260226T015525Z
UID:10005263-1903935600-1903937400@reneewalkerwellness.com
SUMMARY:Morning Energetics
DESCRIPTION:Thursday (Pre-recorded with Andrea Donnelly\, shown live at 7am):\nReceive energetic support and recalibration from Reiki Master Andrea Donnelly in this pre-recorded energy session\, streamed live each Thursday morning. Tune in to clear stagnant energy\, reconnect to your intuition\, and begin your day in energetic alignment. \nNot a member of the Spiritually Wired Membership yet? Join now!
URL:https://reneewalkerwellness.com/event/morning-energetics-4/2030-05-02/
LOCATION:Membership
CATEGORIES:Membership Event
ATTACH;FMTTYPE=image/jpeg:https://reneewalkerwellness.com/wp-content/uploads/2025/06/IMG_9003.jpg
END:VEVENT
BEGIN:VEVENT
DTSTART;TZID=America/Toronto:20300506T070000
DTEND;TZID=America/Toronto:20300506T073000
DTSTAMP:20260422T175222
CREATED:20250611T150249Z
LAST-MODIFIED:20260408T212503Z
UID:10004708-1904281200-1904283000@reneewalkerwellness.com
SUMMARY:Morning Energetics Live
DESCRIPTION:Monday (Live with Renee Walker):\nGround your energy and align with your higher self in real-time with Renee Walker. Start your week with clarity\, purpose\, and a calm\, focused mind. \nNot a member of the Spiritually Wired Membership yet? Join now!
URL:https://reneewalkerwellness.com/event/morning-energetics-3/2030-05-06/
LOCATION:Membership
CATEGORIES:Membership Event
ATTACH;FMTTYPE=image/jpeg:https://reneewalkerwellness.com/wp-content/uploads/2024/09/April24-33-1.jpg
END:VEVENT
END:VCALENDAR