BEGIN:VCALENDAR
VERSION:2.0
PRODID:-//Renee Walker Wellness - ECPv6.15.20//NONSGML v1.0//EN
CALSCALE:GREGORIAN
METHOD:PUBLISH
X-WR-CALNAME:Renee Walker Wellness
X-ORIGINAL-URL:https://reneewalkerwellness.com
X-WR-CALDESC:Events for Renee Walker Wellness
REFRESH-INTERVAL;VALUE=DURATION:PT1H
X-Robots-Tag:noindex
X-PUBLISHED-TTL:PT1H
BEGIN:VTIMEZONE
TZID:America/Toronto
BEGIN:DAYLIGHT
TZOFFSETFROM:-0500
TZOFFSETTO:-0400
TZNAME:EDT
DTSTART:20270314T070000
END:DAYLIGHT
BEGIN:STANDARD
TZOFFSETFROM:-0400
TZOFFSETTO:-0500
TZNAME:EST
DTSTART:20271107T060000
END:STANDARD
BEGIN:DAYLIGHT
TZOFFSETFROM:-0500
TZOFFSETTO:-0400
TZNAME:EDT
DTSTART:20280312T070000
END:DAYLIGHT
BEGIN:STANDARD
TZOFFSETFROM:-0400
TZOFFSETTO:-0500
TZNAME:EST
DTSTART:20281105T060000
END:STANDARD
BEGIN:DAYLIGHT
TZOFFSETFROM:-0500
TZOFFSETTO:-0400
TZNAME:EDT
DTSTART:20290311T070000
END:DAYLIGHT
BEGIN:STANDARD
TZOFFSETFROM:-0400
TZOFFSETTO:-0500
TZNAME:EST
DTSTART:20291104T060000
END:STANDARD
BEGIN:DAYLIGHT
TZOFFSETFROM:-0500
TZOFFSETTO:-0400
TZNAME:EDT
DTSTART:20300310T070000
END:DAYLIGHT
BEGIN:STANDARD
TZOFFSETFROM:-0400
TZOFFSETTO:-0500
TZNAME:EST
DTSTART:20301103T060000
END:STANDARD
END:VTIMEZONE
BEGIN:VEVENT
DTSTART;TZID=America/Toronto:20281106T070000
DTEND;TZID=America/Toronto:20281106T073000
DTSTAMP:20260420T155314
CREATED:20250611T150249Z
LAST-MODIFIED:20260408T212503Z
UID:10004630-1857106800-1857108600@reneewalkerwellness.com
SUMMARY:Morning Energetics Live
DESCRIPTION:Monday (Live with Renee Walker):\nGround your energy and align with your higher self in real-time with Renee Walker. Start your week with clarity\, purpose\, and a calm\, focused mind. \nNot a member of the Spiritually Wired Membership yet? Join now!
URL:https://reneewalkerwellness.com/event/morning-energetics-3/2028-11-06/
LOCATION:Membership
CATEGORIES:Membership Event
ATTACH;FMTTYPE=image/jpeg:https://reneewalkerwellness.com/wp-content/uploads/2024/09/April24-33-1.jpg
END:VEVENT
BEGIN:VEVENT
DTSTART;TZID=America/Toronto:20281107T190000
DTEND;TZID=America/Toronto:20281107T200000
DTSTAMP:20260420T155314
CREATED:20240920T144000Z
LAST-MODIFIED:20260410T164520Z
UID:10004117-1857236400-1857240000@reneewalkerwellness.com
SUMMARY:Sacred Soul Hour: Monthly Intention Call
DESCRIPTION:FIRST TUESDAY OF THE MONTH 7PM\n\n\n\nReflect and set intentions for the month ahead\, keeping you focused on what truly matters.\n\n\nNot a member of the Spiritually Wired Membership yet? Join now!
URL:https://reneewalkerwellness.com/event/sacred-soul-hour-monthly-intention-call/2028-11-07/
LOCATION:Membership
CATEGORIES:Membership Event
ATTACH;FMTTYPE=image/jpeg:https://reneewalkerwellness.com/wp-content/uploads/2024/01/photomeinoffice.jpg
END:VEVENT
BEGIN:VEVENT
DTSTART;TZID=America/Toronto:20281109T070000
DTEND;TZID=America/Toronto:20281109T073000
DTSTAMP:20260420T155314
CREATED:20250626T021255Z
LAST-MODIFIED:20260226T015525Z
UID:10005186-1857366000-1857367800@reneewalkerwellness.com
SUMMARY:Morning Energetics
DESCRIPTION:Thursday (Pre-recorded with Andrea Donnelly\, shown live at 7am):\nReceive energetic support and recalibration from Reiki Master Andrea Donnelly in this pre-recorded energy session\, streamed live each Thursday morning. Tune in to clear stagnant energy\, reconnect to your intuition\, and begin your day in energetic alignment. \nNot a member of the Spiritually Wired Membership yet? Join now!
URL:https://reneewalkerwellness.com/event/morning-energetics-4/2028-11-09/
LOCATION:Membership
CATEGORIES:Membership Event
ATTACH;FMTTYPE=image/jpeg:https://reneewalkerwellness.com/wp-content/uploads/2025/06/IMG_9003.jpg
END:VEVENT
BEGIN:VEVENT
DTSTART;TZID=America/Toronto:20281113T070000
DTEND;TZID=America/Toronto:20281113T073000
DTSTAMP:20260420T155314
CREATED:20250611T150249Z
LAST-MODIFIED:20260408T212503Z
UID:10004631-1857711600-1857713400@reneewalkerwellness.com
SUMMARY:Morning Energetics Live
DESCRIPTION:Monday (Live with Renee Walker):\nGround your energy and align with your higher self in real-time with Renee Walker. Start your week with clarity\, purpose\, and a calm\, focused mind. \nNot a member of the Spiritually Wired Membership yet? Join now!
URL:https://reneewalkerwellness.com/event/morning-energetics-3/2028-11-13/
LOCATION:Membership
CATEGORIES:Membership Event
ATTACH;FMTTYPE=image/jpeg:https://reneewalkerwellness.com/wp-content/uploads/2024/09/April24-33-1.jpg
END:VEVENT
BEGIN:VEVENT
DTSTART;TZID=America/Toronto:20281114T190000
DTEND;TZID=America/Toronto:20281114T200000
DTSTAMP:20260420T155314
CREATED:20240918T182206Z
LAST-MODIFIED:20260413T182529Z
UID:10003964-1857841200-1857844800@reneewalkerwellness.com
SUMMARY:‘Sacred Soul Hour’ Mindset Masterclass
DESCRIPTION:TUESDAYS LIVE AT 7 PM\n\n\n\nTransform your mindset with soul lessons and practices in energy alignment\, meditation\, EFT tapping\, NLP\, hypnotherapy\, and more.\n\nNot a member of the Spiritually Wired Membership yet? Join now!
URL:https://reneewalkerwellness.com/event/sacred-soul-hour-mindset-masterclass/2028-11-14/
LOCATION:Membership
CATEGORIES:Membership Event
ATTACH;FMTTYPE=image/jpeg:https://reneewalkerwellness.com/wp-content/uploads/2024/09/April24-33-1-2.jpg
END:VEVENT
BEGIN:VEVENT
DTSTART;TZID=America/Toronto:20281115T120000
DTEND;TZID=America/Toronto:20281115T130000
DTSTAMP:20260420T155314
CREATED:20240918T183626Z
LAST-MODIFIED:20260102T171223Z
UID:10004058-1857902400-1857906000@reneewalkerwellness.com
SUMMARY:Soul Coaching Hour
DESCRIPTION: LIVE AT 12 PM\n\n\n\nReceive live coaching directly from Renée during this hour dedicated to healing & growth.\n\n\nNot a member of the Spiritually Wired Membership yet? Join now!
URL:https://reneewalkerwellness.com/event/soul-coaching-hour/2028-11-15/
LOCATION:Membership
CATEGORIES:Membership Event
ATTACH;FMTTYPE=image/jpeg:https://reneewalkerwellness.com/wp-content/uploads/2024/09/April24-69.jpg
END:VEVENT
BEGIN:VEVENT
DTSTART;TZID=America/Toronto:20281116T070000
DTEND;TZID=America/Toronto:20281116T073000
DTSTAMP:20260420T155314
CREATED:20250626T021255Z
LAST-MODIFIED:20260226T015525Z
UID:10005187-1857970800-1857972600@reneewalkerwellness.com
SUMMARY:Morning Energetics
DESCRIPTION:Thursday (Pre-recorded with Andrea Donnelly\, shown live at 7am):\nReceive energetic support and recalibration from Reiki Master Andrea Donnelly in this pre-recorded energy session\, streamed live each Thursday morning. Tune in to clear stagnant energy\, reconnect to your intuition\, and begin your day in energetic alignment. \nNot a member of the Spiritually Wired Membership yet? Join now!
URL:https://reneewalkerwellness.com/event/morning-energetics-4/2028-11-16/
LOCATION:Membership
CATEGORIES:Membership Event
ATTACH;FMTTYPE=image/jpeg:https://reneewalkerwellness.com/wp-content/uploads/2025/06/IMG_9003.jpg
END:VEVENT
BEGIN:VEVENT
DTSTART;TZID=America/Toronto:20281120T070000
DTEND;TZID=America/Toronto:20281120T073000
DTSTAMP:20260420T155314
CREATED:20250611T150249Z
LAST-MODIFIED:20260408T212503Z
UID:10004632-1858316400-1858318200@reneewalkerwellness.com
SUMMARY:Morning Energetics Live
DESCRIPTION:Monday (Live with Renee Walker):\nGround your energy and align with your higher self in real-time with Renee Walker. Start your week with clarity\, purpose\, and a calm\, focused mind. \nNot a member of the Spiritually Wired Membership yet? Join now!
URL:https://reneewalkerwellness.com/event/morning-energetics-3/2028-11-20/
LOCATION:Membership
CATEGORIES:Membership Event
ATTACH;FMTTYPE=image/jpeg:https://reneewalkerwellness.com/wp-content/uploads/2024/09/April24-33-1.jpg
END:VEVENT
BEGIN:VEVENT
DTSTART;TZID=America/Toronto:20281121T190000
DTEND;TZID=America/Toronto:20281121T200000
DTSTAMP:20260420T155314
CREATED:20240918T182206Z
LAST-MODIFIED:20260413T182529Z
UID:10003965-1858446000-1858449600@reneewalkerwellness.com
SUMMARY:‘Sacred Soul Hour’ Mindset Masterclass
DESCRIPTION:TUESDAYS LIVE AT 7 PM\n\n\n\nTransform your mindset with soul lessons and practices in energy alignment\, meditation\, EFT tapping\, NLP\, hypnotherapy\, and more.\n\nNot a member of the Spiritually Wired Membership yet? Join now!
URL:https://reneewalkerwellness.com/event/sacred-soul-hour-mindset-masterclass/2028-11-21/
LOCATION:Membership
CATEGORIES:Membership Event
ATTACH;FMTTYPE=image/jpeg:https://reneewalkerwellness.com/wp-content/uploads/2024/09/April24-33-1-2.jpg
END:VEVENT
BEGIN:VEVENT
DTSTART;TZID=America/Toronto:20281123T070000
DTEND;TZID=America/Toronto:20281123T073000
DTSTAMP:20260420T155314
CREATED:20250626T021255Z
LAST-MODIFIED:20260226T015525Z
UID:10005188-1858575600-1858577400@reneewalkerwellness.com
SUMMARY:Morning Energetics
DESCRIPTION:Thursday (Pre-recorded with Andrea Donnelly\, shown live at 7am):\nReceive energetic support and recalibration from Reiki Master Andrea Donnelly in this pre-recorded energy session\, streamed live each Thursday morning. Tune in to clear stagnant energy\, reconnect to your intuition\, and begin your day in energetic alignment. \nNot a member of the Spiritually Wired Membership yet? Join now!
URL:https://reneewalkerwellness.com/event/morning-energetics-4/2028-11-23/
LOCATION:Membership
CATEGORIES:Membership Event
ATTACH;FMTTYPE=image/jpeg:https://reneewalkerwellness.com/wp-content/uploads/2025/06/IMG_9003.jpg
END:VEVENT
BEGIN:VEVENT
DTSTART;TZID=America/Toronto:20281127T070000
DTEND;TZID=America/Toronto:20281127T073000
DTSTAMP:20260420T155315
CREATED:20250611T150249Z
LAST-MODIFIED:20260408T212503Z
UID:10004633-1858921200-1858923000@reneewalkerwellness.com
SUMMARY:Morning Energetics Live
DESCRIPTION:Monday (Live with Renee Walker):\nGround your energy and align with your higher self in real-time with Renee Walker. Start your week with clarity\, purpose\, and a calm\, focused mind. \nNot a member of the Spiritually Wired Membership yet? Join now!
URL:https://reneewalkerwellness.com/event/morning-energetics-3/2028-11-27/
LOCATION:Membership
CATEGORIES:Membership Event
ATTACH;FMTTYPE=image/jpeg:https://reneewalkerwellness.com/wp-content/uploads/2024/09/April24-33-1.jpg
END:VEVENT
BEGIN:VEVENT
DTSTART;TZID=America/Toronto:20281128T190000
DTEND;TZID=America/Toronto:20281128T200000
DTSTAMP:20260420T155315
CREATED:20240918T182206Z
LAST-MODIFIED:20260413T182529Z
UID:10003966-1859050800-1859054400@reneewalkerwellness.com
SUMMARY:‘Sacred Soul Hour’ Mindset Masterclass
DESCRIPTION:TUESDAYS LIVE AT 7 PM\n\n\n\nTransform your mindset with soul lessons and practices in energy alignment\, meditation\, EFT tapping\, NLP\, hypnotherapy\, and more.\n\nNot a member of the Spiritually Wired Membership yet? Join now!
URL:https://reneewalkerwellness.com/event/sacred-soul-hour-mindset-masterclass/2028-11-28/
LOCATION:Membership
CATEGORIES:Membership Event
ATTACH;FMTTYPE=image/jpeg:https://reneewalkerwellness.com/wp-content/uploads/2024/09/April24-33-1-2.jpg
END:VEVENT
BEGIN:VEVENT
DTSTART;TZID=America/Toronto:20281130T070000
DTEND;TZID=America/Toronto:20281130T073000
DTSTAMP:20260420T155315
CREATED:20250626T021255Z
LAST-MODIFIED:20260226T015525Z
UID:10005189-1859180400-1859182200@reneewalkerwellness.com
SUMMARY:Morning Energetics
DESCRIPTION:Thursday (Pre-recorded with Andrea Donnelly\, shown live at 7am):\nReceive energetic support and recalibration from Reiki Master Andrea Donnelly in this pre-recorded energy session\, streamed live each Thursday morning. Tune in to clear stagnant energy\, reconnect to your intuition\, and begin your day in energetic alignment. \nNot a member of the Spiritually Wired Membership yet? Join now!
URL:https://reneewalkerwellness.com/event/morning-energetics-4/2028-11-30/
LOCATION:Membership
CATEGORIES:Membership Event
ATTACH;FMTTYPE=image/jpeg:https://reneewalkerwellness.com/wp-content/uploads/2025/06/IMG_9003.jpg
END:VEVENT
BEGIN:VEVENT
DTSTART;TZID=America/Toronto:20281204T070000
DTEND;TZID=America/Toronto:20281204T073000
DTSTAMP:20260420T155315
CREATED:20250611T150249Z
LAST-MODIFIED:20260408T212503Z
UID:10004634-1859526000-1859527800@reneewalkerwellness.com
SUMMARY:Morning Energetics Live
DESCRIPTION:Monday (Live with Renee Walker):\nGround your energy and align with your higher self in real-time with Renee Walker. Start your week with clarity\, purpose\, and a calm\, focused mind. \nNot a member of the Spiritually Wired Membership yet? Join now!
URL:https://reneewalkerwellness.com/event/morning-energetics-3/2028-12-04/
LOCATION:Membership
CATEGORIES:Membership Event
ATTACH;FMTTYPE=image/jpeg:https://reneewalkerwellness.com/wp-content/uploads/2024/09/April24-33-1.jpg
END:VEVENT
BEGIN:VEVENT
DTSTART;TZID=America/Toronto:20281205T190000
DTEND;TZID=America/Toronto:20281205T200000
DTSTAMP:20260420T155315
CREATED:20240920T144000Z
LAST-MODIFIED:20260410T164520Z
UID:10004118-1859655600-1859659200@reneewalkerwellness.com
SUMMARY:Sacred Soul Hour: Monthly Intention Call
DESCRIPTION:FIRST TUESDAY OF THE MONTH 7PM\n\n\n\nReflect and set intentions for the month ahead\, keeping you focused on what truly matters.\n\n\nNot a member of the Spiritually Wired Membership yet? Join now!
URL:https://reneewalkerwellness.com/event/sacred-soul-hour-monthly-intention-call/2028-12-05/
LOCATION:Membership
CATEGORIES:Membership Event
ATTACH;FMTTYPE=image/jpeg:https://reneewalkerwellness.com/wp-content/uploads/2024/01/photomeinoffice.jpg
END:VEVENT
BEGIN:VEVENT
DTSTART;TZID=America/Toronto:20281207T070000
DTEND;TZID=America/Toronto:20281207T073000
DTSTAMP:20260420T155315
CREATED:20250626T021255Z
LAST-MODIFIED:20260226T015525Z
UID:10005190-1859785200-1859787000@reneewalkerwellness.com
SUMMARY:Morning Energetics
DESCRIPTION:Thursday (Pre-recorded with Andrea Donnelly\, shown live at 7am):\nReceive energetic support and recalibration from Reiki Master Andrea Donnelly in this pre-recorded energy session\, streamed live each Thursday morning. Tune in to clear stagnant energy\, reconnect to your intuition\, and begin your day in energetic alignment. \nNot a member of the Spiritually Wired Membership yet? Join now!
URL:https://reneewalkerwellness.com/event/morning-energetics-4/2028-12-07/
LOCATION:Membership
CATEGORIES:Membership Event
ATTACH;FMTTYPE=image/jpeg:https://reneewalkerwellness.com/wp-content/uploads/2025/06/IMG_9003.jpg
END:VEVENT
BEGIN:VEVENT
DTSTART;TZID=America/Toronto:20281211T070000
DTEND;TZID=America/Toronto:20281211T073000
DTSTAMP:20260420T155315
CREATED:20250611T150249Z
LAST-MODIFIED:20260408T212503Z
UID:10004635-1860130800-1860132600@reneewalkerwellness.com
SUMMARY:Morning Energetics Live
DESCRIPTION:Monday (Live with Renee Walker):\nGround your energy and align with your higher self in real-time with Renee Walker. Start your week with clarity\, purpose\, and a calm\, focused mind. \nNot a member of the Spiritually Wired Membership yet? Join now!
URL:https://reneewalkerwellness.com/event/morning-energetics-3/2028-12-11/
LOCATION:Membership
CATEGORIES:Membership Event
ATTACH;FMTTYPE=image/jpeg:https://reneewalkerwellness.com/wp-content/uploads/2024/09/April24-33-1.jpg
END:VEVENT
BEGIN:VEVENT
DTSTART;TZID=America/Toronto:20281212T190000
DTEND;TZID=America/Toronto:20281212T200000
DTSTAMP:20260420T155315
CREATED:20240918T182206Z
LAST-MODIFIED:20260413T182529Z
UID:10003968-1860260400-1860264000@reneewalkerwellness.com
SUMMARY:‘Sacred Soul Hour’ Mindset Masterclass
DESCRIPTION:TUESDAYS LIVE AT 7 PM\n\n\n\nTransform your mindset with soul lessons and practices in energy alignment\, meditation\, EFT tapping\, NLP\, hypnotherapy\, and more.\n\nNot a member of the Spiritually Wired Membership yet? Join now!
URL:https://reneewalkerwellness.com/event/sacred-soul-hour-mindset-masterclass/2028-12-12/
LOCATION:Membership
CATEGORIES:Membership Event
ATTACH;FMTTYPE=image/jpeg:https://reneewalkerwellness.com/wp-content/uploads/2024/09/April24-33-1-2.jpg
END:VEVENT
BEGIN:VEVENT
DTSTART;TZID=America/Toronto:20281214T070000
DTEND;TZID=America/Toronto:20281214T073000
DTSTAMP:20260420T155315
CREATED:20250626T021255Z
LAST-MODIFIED:20260226T015525Z
UID:10005191-1860390000-1860391800@reneewalkerwellness.com
SUMMARY:Morning Energetics
DESCRIPTION:Thursday (Pre-recorded with Andrea Donnelly\, shown live at 7am):\nReceive energetic support and recalibration from Reiki Master Andrea Donnelly in this pre-recorded energy session\, streamed live each Thursday morning. Tune in to clear stagnant energy\, reconnect to your intuition\, and begin your day in energetic alignment. \nNot a member of the Spiritually Wired Membership yet? Join now!
URL:https://reneewalkerwellness.com/event/morning-energetics-4/2028-12-14/
LOCATION:Membership
CATEGORIES:Membership Event
ATTACH;FMTTYPE=image/jpeg:https://reneewalkerwellness.com/wp-content/uploads/2025/06/IMG_9003.jpg
END:VEVENT
BEGIN:VEVENT
DTSTART;TZID=America/Toronto:20281218T070000
DTEND;TZID=America/Toronto:20281218T073000
DTSTAMP:20260420T155315
CREATED:20250611T150249Z
LAST-MODIFIED:20260408T212503Z
UID:10004636-1860735600-1860737400@reneewalkerwellness.com
SUMMARY:Morning Energetics Live
DESCRIPTION:Monday (Live with Renee Walker):\nGround your energy and align with your higher self in real-time with Renee Walker. Start your week with clarity\, purpose\, and a calm\, focused mind. \nNot a member of the Spiritually Wired Membership yet? Join now!
URL:https://reneewalkerwellness.com/event/morning-energetics-3/2028-12-18/
LOCATION:Membership
CATEGORIES:Membership Event
ATTACH;FMTTYPE=image/jpeg:https://reneewalkerwellness.com/wp-content/uploads/2024/09/April24-33-1.jpg
END:VEVENT
BEGIN:VEVENT
DTSTART;TZID=America/Toronto:20281219T190000
DTEND;TZID=America/Toronto:20281219T200000
DTSTAMP:20260420T155315
CREATED:20240918T182206Z
LAST-MODIFIED:20260413T182529Z
UID:10003969-1860865200-1860868800@reneewalkerwellness.com
SUMMARY:‘Sacred Soul Hour’ Mindset Masterclass
DESCRIPTION:TUESDAYS LIVE AT 7 PM\n\n\n\nTransform your mindset with soul lessons and practices in energy alignment\, meditation\, EFT tapping\, NLP\, hypnotherapy\, and more.\n\nNot a member of the Spiritually Wired Membership yet? Join now!
URL:https://reneewalkerwellness.com/event/sacred-soul-hour-mindset-masterclass/2028-12-19/
LOCATION:Membership
CATEGORIES:Membership Event
ATTACH;FMTTYPE=image/jpeg:https://reneewalkerwellness.com/wp-content/uploads/2024/09/April24-33-1-2.jpg
END:VEVENT
BEGIN:VEVENT
DTSTART;TZID=America/Toronto:20281220T120000
DTEND;TZID=America/Toronto:20281220T130000
DTSTAMP:20260420T155315
CREATED:20240918T183626Z
LAST-MODIFIED:20260102T171223Z
UID:10004059-1860926400-1860930000@reneewalkerwellness.com
SUMMARY:Soul Coaching Hour
DESCRIPTION: LIVE AT 12 PM\n\n\n\nReceive live coaching directly from Renée during this hour dedicated to healing & growth.\n\n\nNot a member of the Spiritually Wired Membership yet? Join now!
URL:https://reneewalkerwellness.com/event/soul-coaching-hour/2028-12-20/
LOCATION:Membership
CATEGORIES:Membership Event
ATTACH;FMTTYPE=image/jpeg:https://reneewalkerwellness.com/wp-content/uploads/2024/09/April24-69.jpg
END:VEVENT
BEGIN:VEVENT
DTSTART;TZID=America/Toronto:20281221T070000
DTEND;TZID=America/Toronto:20281221T073000
DTSTAMP:20260420T155315
CREATED:20250626T021255Z
LAST-MODIFIED:20260226T015525Z
UID:10005192-1860994800-1860996600@reneewalkerwellness.com
SUMMARY:Morning Energetics
DESCRIPTION:Thursday (Pre-recorded with Andrea Donnelly\, shown live at 7am):\nReceive energetic support and recalibration from Reiki Master Andrea Donnelly in this pre-recorded energy session\, streamed live each Thursday morning. Tune in to clear stagnant energy\, reconnect to your intuition\, and begin your day in energetic alignment. \nNot a member of the Spiritually Wired Membership yet? Join now!
URL:https://reneewalkerwellness.com/event/morning-energetics-4/2028-12-21/
LOCATION:Membership
CATEGORIES:Membership Event
ATTACH;FMTTYPE=image/jpeg:https://reneewalkerwellness.com/wp-content/uploads/2025/06/IMG_9003.jpg
END:VEVENT
BEGIN:VEVENT
DTSTART;TZID=America/Toronto:20281225T070000
DTEND;TZID=America/Toronto:20281225T073000
DTSTAMP:20260420T155315
CREATED:20250611T150249Z
LAST-MODIFIED:20260408T212503Z
UID:10004637-1861340400-1861342200@reneewalkerwellness.com
SUMMARY:Morning Energetics Live
DESCRIPTION:Monday (Live with Renee Walker):\nGround your energy and align with your higher self in real-time with Renee Walker. Start your week with clarity\, purpose\, and a calm\, focused mind. \nNot a member of the Spiritually Wired Membership yet? Join now!
URL:https://reneewalkerwellness.com/event/morning-energetics-3/2028-12-25/
LOCATION:Membership
CATEGORIES:Membership Event
ATTACH;FMTTYPE=image/jpeg:https://reneewalkerwellness.com/wp-content/uploads/2024/09/April24-33-1.jpg
END:VEVENT
BEGIN:VEVENT
DTSTART;TZID=America/Toronto:20281226T190000
DTEND;TZID=America/Toronto:20281226T200000
DTSTAMP:20260420T155315
CREATED:20240918T182206Z
LAST-MODIFIED:20260413T182529Z
UID:10003970-1861470000-1861473600@reneewalkerwellness.com
SUMMARY:‘Sacred Soul Hour’ Mindset Masterclass
DESCRIPTION:TUESDAYS LIVE AT 7 PM\n\n\n\nTransform your mindset with soul lessons and practices in energy alignment\, meditation\, EFT tapping\, NLP\, hypnotherapy\, and more.\n\nNot a member of the Spiritually Wired Membership yet? Join now!
URL:https://reneewalkerwellness.com/event/sacred-soul-hour-mindset-masterclass/2028-12-26/
LOCATION:Membership
CATEGORIES:Membership Event
ATTACH;FMTTYPE=image/jpeg:https://reneewalkerwellness.com/wp-content/uploads/2024/09/April24-33-1-2.jpg
END:VEVENT
BEGIN:VEVENT
DTSTART;TZID=America/Toronto:20281228T070000
DTEND;TZID=America/Toronto:20281228T073000
DTSTAMP:20260420T155315
CREATED:20250626T021255Z
LAST-MODIFIED:20260226T015525Z
UID:10005193-1861599600-1861601400@reneewalkerwellness.com
SUMMARY:Morning Energetics
DESCRIPTION:Thursday (Pre-recorded with Andrea Donnelly\, shown live at 7am):\nReceive energetic support and recalibration from Reiki Master Andrea Donnelly in this pre-recorded energy session\, streamed live each Thursday morning. Tune in to clear stagnant energy\, reconnect to your intuition\, and begin your day in energetic alignment. \nNot a member of the Spiritually Wired Membership yet? Join now!
URL:https://reneewalkerwellness.com/event/morning-energetics-4/2028-12-28/
LOCATION:Membership
CATEGORIES:Membership Event
ATTACH;FMTTYPE=image/jpeg:https://reneewalkerwellness.com/wp-content/uploads/2025/06/IMG_9003.jpg
END:VEVENT
BEGIN:VEVENT
DTSTART;TZID=America/Toronto:20290101T070000
DTEND;TZID=America/Toronto:20290101T073000
DTSTAMP:20260420T155315
CREATED:20250611T150249Z
LAST-MODIFIED:20260408T212503Z
UID:10004638-1861945200-1861947000@reneewalkerwellness.com
SUMMARY:Morning Energetics Live
DESCRIPTION:Monday (Live with Renee Walker):\nGround your energy and align with your higher self in real-time with Renee Walker. Start your week with clarity\, purpose\, and a calm\, focused mind. \nNot a member of the Spiritually Wired Membership yet? Join now!
URL:https://reneewalkerwellness.com/event/morning-energetics-3/2029-01-01/
LOCATION:Membership
CATEGORIES:Membership Event
ATTACH;FMTTYPE=image/jpeg:https://reneewalkerwellness.com/wp-content/uploads/2024/09/April24-33-1.jpg
END:VEVENT
BEGIN:VEVENT
DTSTART;TZID=America/Toronto:20290102T190000
DTEND;TZID=America/Toronto:20290102T200000
DTSTAMP:20260420T155315
CREATED:20240920T144000Z
LAST-MODIFIED:20260410T164520Z
UID:10004119-1862074800-1862078400@reneewalkerwellness.com
SUMMARY:Sacred Soul Hour: Monthly Intention Call
DESCRIPTION:FIRST TUESDAY OF THE MONTH 7PM\n\n\n\nReflect and set intentions for the month ahead\, keeping you focused on what truly matters.\n\n\nNot a member of the Spiritually Wired Membership yet? Join now!
URL:https://reneewalkerwellness.com/event/sacred-soul-hour-monthly-intention-call/2029-01-02/
LOCATION:Membership
CATEGORIES:Membership Event
ATTACH;FMTTYPE=image/jpeg:https://reneewalkerwellness.com/wp-content/uploads/2024/01/photomeinoffice.jpg
END:VEVENT
BEGIN:VEVENT
DTSTART;TZID=America/Toronto:20290104T070000
DTEND;TZID=America/Toronto:20290104T073000
DTSTAMP:20260420T155315
CREATED:20250626T021255Z
LAST-MODIFIED:20260226T015525Z
UID:10005194-1862204400-1862206200@reneewalkerwellness.com
SUMMARY:Morning Energetics
DESCRIPTION:Thursday (Pre-recorded with Andrea Donnelly\, shown live at 7am):\nReceive energetic support and recalibration from Reiki Master Andrea Donnelly in this pre-recorded energy session\, streamed live each Thursday morning. Tune in to clear stagnant energy\, reconnect to your intuition\, and begin your day in energetic alignment. \nNot a member of the Spiritually Wired Membership yet? Join now!
URL:https://reneewalkerwellness.com/event/morning-energetics-4/2029-01-04/
LOCATION:Membership
CATEGORIES:Membership Event
ATTACH;FMTTYPE=image/jpeg:https://reneewalkerwellness.com/wp-content/uploads/2025/06/IMG_9003.jpg
END:VEVENT
BEGIN:VEVENT
DTSTART;TZID=America/Toronto:20290108T070000
DTEND;TZID=America/Toronto:20290108T073000
DTSTAMP:20260420T155315
CREATED:20250611T150249Z
LAST-MODIFIED:20260408T212503Z
UID:10004639-1862550000-1862551800@reneewalkerwellness.com
SUMMARY:Morning Energetics Live
DESCRIPTION:Monday (Live with Renee Walker):\nGround your energy and align with your higher self in real-time with Renee Walker. Start your week with clarity\, purpose\, and a calm\, focused mind. \nNot a member of the Spiritually Wired Membership yet? Join now!
URL:https://reneewalkerwellness.com/event/morning-energetics-3/2029-01-08/
LOCATION:Membership
CATEGORIES:Membership Event
ATTACH;FMTTYPE=image/jpeg:https://reneewalkerwellness.com/wp-content/uploads/2024/09/April24-33-1.jpg
END:VEVENT
END:VCALENDAR